BEGIN:VCALENDAR
VERSION:2.0
PRODID:-//Elsevier Education - ECPv6.15.18//NONSGML v1.0//EN
CALSCALE:GREGORIAN
METHOD:PUBLISH
X-ORIGINAL-URL:https://evolve.elsevier.com/education
X-WR-CALDESC:Events for Elsevier Education
REFRESH-INTERVAL;VALUE=DURATION:PT1H
X-Robots-Tag:noindex
X-PUBLISHED-TTL:PT1H
BEGIN:VTIMEZONE
TZID:America/New_York
BEGIN:DAYLIGHT
TZOFFSETFROM:-0500
TZOFFSETTO:-0400
TZNAME:EDT
DTSTART:20230312T070000
END:DAYLIGHT
BEGIN:STANDARD
TZOFFSETFROM:-0400
TZOFFSETTO:-0500
TZNAME:EST
DTSTART:20231105T060000
END:STANDARD
BEGIN:DAYLIGHT
TZOFFSETFROM:-0500
TZOFFSETTO:-0400
TZNAME:EDT
DTSTART:20240310T070000
END:DAYLIGHT
BEGIN:STANDARD
TZOFFSETFROM:-0400
TZOFFSETTO:-0500
TZNAME:EST
DTSTART:20241103T060000
END:STANDARD
BEGIN:DAYLIGHT
TZOFFSETFROM:-0500
TZOFFSETTO:-0400
TZNAME:EDT
DTSTART:20250309T070000
END:DAYLIGHT
BEGIN:STANDARD
TZOFFSETFROM:-0400
TZOFFSETTO:-0500
TZNAME:EST
DTSTART:20251102T060000
END:STANDARD
END:VTIMEZONE
BEGIN:VEVENT
DTSTART;TZID=America/New_York:20241112T090000
DTEND;TZID=America/New_York:20241112T103000
DTSTAMP:20260424T065528
CREATED:20241029T133122Z
LAST-MODIFIED:20241029T133122Z
UID:47801-1731402000-1731407400@evolve.elsevier.com
SUMMARY:Sherpath Vantage Faculty Group Training Webinar
DESCRIPTION:Join our upcoming Sherpath Vantage Faculty Group Training Webinar to learn more about its exciting resources\, features\, and functionality as you prepare to use Vantage this term. \nTo learn more or register for this live session\, click here.
URL:https://evolve.elsevier.com/education/event/sherpath-vantage-faculty-group-training-webinar-4/
CATEGORIES:Sherpath Vantage
END:VEVENT
BEGIN:VEVENT
DTSTART;TZID=America/New_York:20241112T150000
DTEND;TZID=America/New_York:20241112T163000
DTSTAMP:20260424T065528
CREATED:20241004T110058Z
LAST-MODIFIED:20241004T110058Z
UID:47464-1731423600-1731429000@evolve.elsevier.com
SUMMARY:Sherpath for DA Faculty Group Training Webinar
DESCRIPTION:Join our upcoming Sherpath for Dental Assisting (DA) Faculty Group Training Webinar today. In this session\, we will explore the features\, functionality\, and fully integrated platform as you prepare to use Sherpath for DA with your learners this term. \nTo learn more or register for this live session\, click here.
URL:https://evolve.elsevier.com/education/event/sherpath-for-da-faculty-group-training-webinar-6/
CATEGORIES:Sherpath,Sherpath for DA,Sherpath for HP
END:VEVENT
BEGIN:VEVENT
DTSTART;TZID=America/New_York:20241113T110000
DTEND;TZID=America/New_York:20241113T120000
DTSTAMP:20260424T065528
CREATED:20241003T162822Z
LAST-MODIFIED:20241003T162822Z
UID:47427-1731495600-1731499200@evolve.elsevier.com
SUMMARY:HESI NG Prep Suite Faculty Group Training Webinar
DESCRIPTION:Join our HESI Next Generation (NG) Prep Suite Faculty Group Training Webinar to help prepare your learners for their HESI exams. In this webinar\, we will review the assignment types\, course set up\, and course navigation. \nTo learn more and register for this session\, click here.
URL:https://evolve.elsevier.com/education/event/hesi-ng-prep-suite-faculty-group-training-webinar-4/
CATEGORIES:HESI
END:VEVENT
BEGIN:VEVENT
DTSTART;TZID=America/New_York:20241113T130000
DTEND;TZID=America/New_York:20241113T140000
DTSTAMP:20260424T065528
CREATED:20241004T102738Z
LAST-MODIFIED:20241004T105925Z
UID:47438-1731502800-1731506400@evolve.elsevier.com
SUMMARY:HESI NG Testing Faculty Group Training Webinar
DESCRIPTION:Join our HESI Next Generation (NG) Exam Testing Faculty Group Training Webinar to learn how to set up and administer your HESI NG Exams\, and prepare for your semester today! \nYou can learn more and register for this live session by clicking here.
URL:https://evolve.elsevier.com/education/event/hesi-ng-prep-suite-faculty-group-training-webinar-6/
CATEGORIES:HESI
END:VEVENT
BEGIN:VEVENT
DTSTART;TZID=America/New_York:20241114T130000
DTEND;TZID=America/New_York:20241114T140000
DTSTAMP:20260424T065528
CREATED:20241004T104146Z
LAST-MODIFIED:20241004T104146Z
UID:47452-1731589200-1731592800@evolve.elsevier.com
SUMMARY:Osmosis Faculty Group Training Webinar
DESCRIPTION:Join our Osmosis Faculty Group Training Webinar to learn how to use the features and functionality of Osmosis standalone. In this webinar\, we will review platform access\, navigation and customization\, and user analytics. \nYou can learn more and register for this live session by clicking here. \nIf you are using Osmosis videos in Sherpath\, join us at an upcoming Sherpath or Sherpath Vantage Faculty Group Training Webinar. 
URL:https://evolve.elsevier.com/education/event/osmosis-faculty-group-training-webinar-4/
CATEGORIES:Osmosis
END:VEVENT
BEGIN:VEVENT
DTSTART;TZID=America/New_York:20241114T150000
DTEND;TZID=America/New_York:20241114T163000
DTSTAMP:20260424T065528
CREATED:20241004T103357Z
LAST-MODIFIED:20241004T103357Z
UID:47445-1731596400-1731601800@evolve.elsevier.com
SUMMARY:EAB in Sherpath Faculty Group Training Webinar
DESCRIPTION:Join our Elsevier’s Assessment Builder (EAB) Faculty Group Training Webinar to learn how to use Elsevier’s enhanced test banks in Sherpath to prepare your learners for the Next Generation NCLEX today. \nYou can learn more and register for this live session by clicking here.
URL:https://evolve.elsevier.com/education/event/eab-in-sherpath-faculty-group-training-webinar-3/
CATEGORIES:EAB,Sherpath
END:VEVENT
BEGIN:VEVENT
DTSTART;TZID=America/New_York:20241118T100000
DTEND;TZID=America/New_York:20241118T113000
DTSTAMP:20260424T065528
CREATED:20241028T213015Z
LAST-MODIFIED:20241028T213015Z
UID:47786-1731924000-1731929400@evolve.elsevier.com
SUMMARY:Sherpath for RadTech Faculty Group Training Webinar
DESCRIPTION:Join our upcoming Sherpath for Radiologic Technology (RadTech) Faculty Group Training Webinar today. In this session\, we will explore the features\, functionality\, and fully integrated platform as you prepare to use Sherpath for RadTech with your learners this term. \nTo learn more or register for this live session\, click here.
URL:https://evolve.elsevier.com/education/event/sherpath-for-radtech-faculty-group-training-webinar-3/
CATEGORIES:Sherpath,Sherpath for HP,Sherpath for RadTech
END:VEVENT
BEGIN:VEVENT
DTSTART;TZID=America/New_York:20241120T110000
DTEND;TZID=America/New_York:20241120T123000
DTSTAMP:20260424T065528
CREATED:20241004T104821Z
LAST-MODIFIED:20241113T184429Z
UID:47454-1732100400-1732105800@evolve.elsevier.com
SUMMARY:Sherpath for RadTech Faculty Group Training Webinar
DESCRIPTION:Join our upcoming Sherpath for Radiologic Technology (RadTech) Faculty Group Training Webinar today. In this session\, we will explore the features\, functionality\, and fully integrated platform as you prepare to use Sherpath for RadTech with your learners this term. \nTo learn more or register for this live session\, click here.
URL:https://evolve.elsevier.com/education/event/sherpath-for-radtech-faculty-group-training-webinar-2/
CATEGORIES:Sherpath,Sherpath for HP,Sherpath for RadTech
END:VEVENT
BEGIN:VEVENT
DTSTART;TZID=America/New_York:20241121T110000
DTEND;TZID=America/New_York:20241121T120000
DTSTAMP:20260424T065528
CREATED:20241029T133520Z
LAST-MODIFIED:20241112T152302Z
UID:47803-1732186800-1732190400@evolve.elsevier.com
SUMMARY:Shadow Health in Sherpath Vantage Faculty Group Training Webinar
DESCRIPTION:Join our upcoming Shadow Health in Sherpath Vantage Faculty Group Training Webinar to learn more about the features and functionality of using Shadow Health in Sherpath Vantage as you prepare to use Vantage this term. This webinar will include an overview of Shadow Health along with a walkthrough of setting up Shadow Health assignments in your Sherpath Vantage course. \nTo learn more or register for this live webinar\, click here. Be sure to select Sherpath Vantage as your access point for Shadow Health to complete your registration for this session. \nNote: This webinar will solely review setting up Shadow Health via Sherpath Vantage. As a reminder\, to register for these specific sessions you will first select Shadow Health in the survey\, then confirm Sherpath Vantage as your access point. If you are unable to attend any of these webinar sessions\, you can attend our regular Shadow Health or Sherpath Vantage webinars as an alternative or connect with your CSM to schedule a one-on-one training.
URL:https://evolve.elsevier.com/education/event/shadow-health-in-sherpath-vantage/
CATEGORIES:Shadow Health,Sherpath Vantage
END:VEVENT
END:VCALENDAR