BEGIN:VCALENDAR
VERSION:2.0
PRODID:-//Elsevier Education - ECPv6.15.18//NONSGML v1.0//EN
CALSCALE:GREGORIAN
METHOD:PUBLISH
X-WR-CALNAME:Elsevier Education
X-ORIGINAL-URL:https://evolve.elsevier.com/education
X-WR-CALDESC:Events for Elsevier Education
REFRESH-INTERVAL;VALUE=DURATION:PT1H
X-Robots-Tag:noindex
X-PUBLISHED-TTL:PT1H
BEGIN:VTIMEZONE
TZID:America/New_York
BEGIN:DAYLIGHT
TZOFFSETFROM:-0500
TZOFFSETTO:-0400
TZNAME:EDT
DTSTART:20230312T070000
END:DAYLIGHT
BEGIN:STANDARD
TZOFFSETFROM:-0400
TZOFFSETTO:-0500
TZNAME:EST
DTSTART:20231105T060000
END:STANDARD
BEGIN:DAYLIGHT
TZOFFSETFROM:-0500
TZOFFSETTO:-0400
TZNAME:EDT
DTSTART:20240310T070000
END:DAYLIGHT
BEGIN:STANDARD
TZOFFSETFROM:-0400
TZOFFSETTO:-0500
TZNAME:EST
DTSTART:20241103T060000
END:STANDARD
BEGIN:DAYLIGHT
TZOFFSETFROM:-0500
TZOFFSETTO:-0400
TZNAME:EDT
DTSTART:20250309T070000
END:DAYLIGHT
BEGIN:STANDARD
TZOFFSETFROM:-0400
TZOFFSETTO:-0500
TZNAME:EST
DTSTART:20251102T060000
END:STANDARD
END:VTIMEZONE
BEGIN:VEVENT
DTSTART;TZID=America/New_York:20240708T110000
DTEND;TZID=America/New_York:20240708T123000
DTSTAMP:20260424T225924
CREATED:20240408T182551Z
LAST-MODIFIED:20240408T182551Z
UID:44115-1720436400-1720441800@evolve.elsevier.com
SUMMARY:Sherpath Vantage Faculty Group Training Webinar - July 8\, 2024
DESCRIPTION:Join our upcoming Sherpath Vantage Faculty Group Training Webinar to learn more about its exciting resources\, features\, and functionality as you prepare to use Vantage this term. \nTo learn more or register for this live session\, click the following link: https://survey.alchemer.com/s3/7355090/Group-Training-Webinar-Sign-Up
URL:https://evolve.elsevier.com/education/event/sherpath-vantage-faculty-group-training-webinar-july-8-2024/
CATEGORIES:Sherpath Vantage
END:VEVENT
BEGIN:VEVENT
DTSTART;TZID=America/New_York:20240711T090000
DTEND;TZID=America/New_York:20240711T100000
DTSTAMP:20260424T225924
CREATED:20240408T180046Z
LAST-MODIFIED:20240408T180046Z
UID:44085-1720688400-1720692000@evolve.elsevier.com
SUMMARY:HESI NG Exam Testing Faculty Group Training Webinar - July 11\, 2024
DESCRIPTION:Join our HESI Next Generation (NG) Exam Testing Faculty Group Training Webinar to learn how to set up and administer your HESI NG Exams\, and prepare for your semester today. \nYou can learn more and register for this live session by clicking the following link: https://survey.alchemer.com/s3/7355090/Group-Training-Webinar-Sign-Up
URL:https://evolve.elsevier.com/education/event/hesi-ng-exam-testing-faculty-group-training-webinar-july-11-2024/
CATEGORIES:HESI
END:VEVENT
BEGIN:VEVENT
DTSTART;TZID=America/New_York:20240711T130000
DTEND;TZID=America/New_York:20240711T140000
DTSTAMP:20260424T225924
CREATED:20240408T180926Z
LAST-MODIFIED:20240408T180926Z
UID:44097-1720702800-1720706400@evolve.elsevier.com
SUMMARY:HESI NG Prep Suite Faculty Group Training Webinar - July 11\, 2024
DESCRIPTION:Join our HESI Next Generation (NG) Prep Suite Faculty Group Training Webinar to prepare for your semester today. \nYou can learn more and register for this live session by clicking the following link: https://survey.alchemer.com/s3/7355090/Group-Training-Webinar-Sign-Up
URL:https://evolve.elsevier.com/education/event/hesi-ng-prep-suite-faculty-group-training-webinar-july-11-2024/
CATEGORIES:HESI
END:VEVENT
BEGIN:VEVENT
DTSTART;TZID=America/New_York:20240712T110000
DTEND;TZID=America/New_York:20240712T123000
DTSTAMP:20260424T225924
CREATED:20240408T183422Z
LAST-MODIFIED:20240408T183422Z
UID:44126-1720782000-1720787400@evolve.elsevier.com
SUMMARY:Upgraded Sherpath Faculty Group Training Webinar - July 12\, 2024
DESCRIPTION:Join our upcoming Upgraded Sherpath Faculty Group Training Webinar today. In this session\, we will explore the features\, functionality\, and fully integrated platform as you prepare to use Upgraded Sherpath with your learners this term. \nTo learn more or register for this live session\, click the following link: https://survey.alchemer.com/s3/7355090/Group-Training-Webinar-Sign-Up
URL:https://evolve.elsevier.com/education/event/upgraded-sherpath-faculty-group-training-webinar-july-12-2024/
CATEGORIES:Upgraded Sherpath
END:VEVENT
BEGIN:VEVENT
DTSTART;TZID=America/New_York:20240715T090000
DTEND;TZID=America/New_York:20240715T103000
DTSTAMP:20260424T225924
CREATED:20240408T200703Z
LAST-MODIFIED:20240501T184458Z
UID:44140-1721034000-1721039400@evolve.elsevier.com
SUMMARY:Simulation Learning System Faculty Group Training Webinar - July 15\, 2024
DESCRIPTION:Join our upcoming Simulation Learning System (SLS) Faculty Group Training Webinar today. In this session\, we will explore its features\, functionality\, and resources as you prepare to integrate simulations into your curriculum and use SLS with your learners this term. \nTo learn more or register for this live session\, click the following link: https://survey.alchemer.com/s3/7355090/Group-Training-Webinar-Sign-Up
URL:https://evolve.elsevier.com/education/event/simulation-learning-system-faculty-group-training-webinar-july-8-2024/
CATEGORIES:SLS
END:VEVENT
BEGIN:VEVENT
DTSTART;TZID=America/New_York:20240718T130000
DTEND;TZID=America/New_York:20240718T143000
DTSTAMP:20260424T225924
CREATED:20240503T142612Z
LAST-MODIFIED:20240503T142612Z
UID:44322-1721307600-1721313000@evolve.elsevier.com
SUMMARY:Sherpath for Dental Assisting Faculty Group Training Webinar - July 18\, 2024
DESCRIPTION:Join our upcoming Sherpath for Dental Assisting (DA) Faculty Group Training Webinar today. In this session\, we will explore the features\, functionality\, and fully integrated platform as you prepare to use Sherpath for DA with your learners this term. \nTo learn more or register for this live session\, click the following link: https://survey.alchemer.com/s3/7355090/Group-Training-Webinar-Sign-Up
URL:https://evolve.elsevier.com/education/event/sherpath-for-dental-assisting-faculty-group-training-webinar-july-18-2024/
CATEGORIES:Sherpath for DA
END:VEVENT
BEGIN:VEVENT
DTSTART;TZID=America/New_York:20240719T130000
DTEND;TZID=America/New_York:20240719T143000
DTSTAMP:20260424T225924
CREATED:20240408T182004Z
LAST-MODIFIED:20240408T182027Z
UID:44108-1721394000-1721399400@evolve.elsevier.com
SUMMARY:Shadow Health Faculty Group Training Webinar - July 19\, 2024
DESCRIPTION:Join our upcoming Shadow Health Faculty Group Training Webinar today. In this session\, we will review the basic functionality and features to help you prepare to use Shadow Health in your course this term. \nTo learn more or register for this live session\, click the following link: https://survey.alchemer.com/s3/7355090/Group-Training-Webinar-Sign-Up
URL:https://evolve.elsevier.com/education/event/shadow-health-faculty-group-training-webinar-july-19-2024/
CATEGORIES:Shadow Health
END:VEVENT
END:VCALENDAR