BEGIN:VCALENDAR
VERSION:2.0
PRODID:-//Elsevier Education - ECPv6.15.18//NONSGML v1.0//EN
CALSCALE:GREGORIAN
METHOD:PUBLISH
X-WR-CALNAME:Elsevier Education
X-ORIGINAL-URL:https://evolve.elsevier.com/education
X-WR-CALDESC:Events for Elsevier Education
REFRESH-INTERVAL;VALUE=DURATION:PT1H
X-Robots-Tag:noindex
X-PUBLISHED-TTL:PT1H
BEGIN:VTIMEZONE
TZID:America/New_York
BEGIN:DAYLIGHT
TZOFFSETFROM:-0500
TZOFFSETTO:-0400
TZNAME:EDT
DTSTART:20230312T070000
END:DAYLIGHT
BEGIN:STANDARD
TZOFFSETFROM:-0400
TZOFFSETTO:-0500
TZNAME:EST
DTSTART:20231105T060000
END:STANDARD
BEGIN:DAYLIGHT
TZOFFSETFROM:-0500
TZOFFSETTO:-0400
TZNAME:EDT
DTSTART:20240310T070000
END:DAYLIGHT
BEGIN:STANDARD
TZOFFSETFROM:-0400
TZOFFSETTO:-0500
TZNAME:EST
DTSTART:20241103T060000
END:STANDARD
BEGIN:DAYLIGHT
TZOFFSETFROM:-0500
TZOFFSETTO:-0400
TZNAME:EDT
DTSTART:20250309T070000
END:DAYLIGHT
BEGIN:STANDARD
TZOFFSETFROM:-0400
TZOFFSETTO:-0500
TZNAME:EST
DTSTART:20251102T060000
END:STANDARD
END:VTIMEZONE
BEGIN:VEVENT
DTSTART;TZID=America/New_York:20240502T120000
DTEND;TZID=America/New_York:20240502T130000
DTSTAMP:20260425T132820
CREATED:20240320T183402Z
LAST-MODIFIED:20240320T185318Z
UID:43785-1714651200-1714654800@evolve.elsevier.com
SUMMARY:Spring Educator Webinar: Executive Course Implementation Review - May 2\, 2024
DESCRIPTION:During this session\, a Nursing Education Specialist will walk through the Sherpath Performance and Practice Readiness Dashboards\, discuss how to gain meaningful insights from these analytics\, and share strategies for optimizing the resources in Sherpath and Shadow Health in order to drive student success. \nTo register for this session\, click the following link: https://elsevier.zoom.us/webinar/register/WN_YeMI8oOJQ0qwb81ZnparGw \nIf you have any questions\, please reach out to your Elsevier Customer Success Manager.
URL:https://evolve.elsevier.com/education/event/spring-educator-webinar-executive-course-implementation-review-may-2-2024/
CATEGORIES:Shadow Health,Sherpath Vantage,Upgraded Sherpath
END:VEVENT
BEGIN:VEVENT
DTSTART;TZID=America/New_York:20240502T120000
DTEND;TZID=America/New_York:20240502T130000
DTSTAMP:20260425T132820
CREATED:20240320T183814Z
LAST-MODIFIED:20240320T183858Z
UID:43788-1714651200-1714654800@evolve.elsevier.com
SUMMARY:Spring Educator Webinar: Executive HESI Implementation Review - May 2\, 2024
DESCRIPTION:During this webinar\, a Nursing Education Specialist will walk through HESI analytics\, discuss how to identify content areas of opportunity and monitor at-risk students\, and share strategies for helping students prepare for and remediate after HESI exams in order to optimize HESI in your program. \nTo register for this session\, click the following link: https://elsevier.zoom.us/webinar/register/WN_YeMI8oOJQ0qwb81ZnparGw \nIf you have any questions\, please reach out to your Elsevier Customer Success Manager.
URL:https://evolve.elsevier.com/education/event/spring-educator-webinar-executive-hesi-implementation-review-may-2-2024/
CATEGORIES:HESI
END:VEVENT
BEGIN:VEVENT
DTSTART;TZID=America/New_York:20240513T130000
DTEND;TZID=America/New_York:20240513T143000
DTSTAMP:20260425T132820
CREATED:20240408T195445Z
LAST-MODIFIED:20240408T195445Z
UID:44122-1715605200-1715610600@evolve.elsevier.com
SUMMARY:Simulation Learning System Faculty Group Training Webinar - May 13\, 2024
DESCRIPTION:Join our upcoming Simulation Learning System (SLS) Faculty Group Training Webinar today. In this session\, we will explore its features\, functionality\, and resources as you prepare to integrate simulations into your curriculum and use SLS with your learners this term. \nTo learn more or register for this live session\, click the following link: https://survey.alchemer.com/s3/7355090/Group-Training-Webinar-Sign-Up
URL:https://evolve.elsevier.com/education/event/simulation-learning-system-faculty-group-training-webinar-may-13-2024/
CATEGORIES:SLS
END:VEVENT
BEGIN:VEVENT
DTSTART;TZID=America/New_York:20240515T110000
DTEND;TZID=America/New_York:20240515T120000
DTSTAMP:20260425T132820
CREATED:20240408T174000Z
LAST-MODIFIED:20240408T174000Z
UID:44081-1715770800-1715774400@evolve.elsevier.com
SUMMARY:HESI NG Exam Testing Faculty Group Training Webinar - May 15\, 2024
DESCRIPTION:Join our HESI Next Generation (NG) Exam Testing Faculty Group Training Webinar to learn how to set up and administer your HESI NG Exams\, and prepare for your semester today. \nYou can learn more and register for this live session by clicking the following link: https://survey.alchemer.com/s3/7355090/Group-Training-Webinar-Sign-Up
URL:https://evolve.elsevier.com/education/event/hesi-ng-exam-testing-faculty-group-training-webinar-may-15-2024/
CATEGORIES:HESI
END:VEVENT
BEGIN:VEVENT
DTSTART;TZID=America/New_York:20240515T150000
DTEND;TZID=America/New_York:20240515T160000
DTSTAMP:20260425T132820
CREATED:20240408T180608Z
LAST-MODIFIED:20240408T180608Z
UID:44088-1715785200-1715788800@evolve.elsevier.com
SUMMARY:HESI NG Prep Suite Faculty Group Training Webinar - May 15\, 2024
DESCRIPTION:Join our HESI Next Generation (NG) Prep Suite Faculty Group Training Webinar to prepare for your semester today. \nYou can learn more and register for this live session by clicking the following link: https://survey.alchemer.com/s3/7355090/Group-Training-Webinar-Sign-Up
URL:https://evolve.elsevier.com/education/event/hesi-ng-prep-suite-faculty-group-training-webinar-may-15-2024/
CATEGORIES:HESI
END:VEVENT
BEGIN:VEVENT
DTSTART;TZID=America/New_York:20240516T090000
DTEND;TZID=America/New_York:20240516T103000
DTSTAMP:20260425T132820
CREATED:20240408T183240Z
LAST-MODIFIED:20240408T183240Z
UID:44124-1715850000-1715855400@evolve.elsevier.com
SUMMARY:Upgraded Sherpath Faculty Group Training Webinar - May 16\, 2024
DESCRIPTION:Join our upcoming Upgraded Sherpath Faculty Group Training Webinar today. In this session\, we will explore the features\, functionality\, and fully integrated platform as you prepare to use Upgraded Sherpath with your learners this term. \nTo learn more or register for this live session\, click the following link: https://survey.alchemer.com/s3/7355090/Group-Training-Webinar-Sign-Up
URL:https://evolve.elsevier.com/education/event/upgraded-sherpath-faculty-group-training-webinar-may-16-2024/
CATEGORIES:Upgraded Sherpath
END:VEVENT
END:VCALENDAR