BEGIN:VCALENDAR
VERSION:2.0
PRODID:-//Elsevier Education - ECPv6.15.18//NONSGML v1.0//EN
CALSCALE:GREGORIAN
METHOD:PUBLISH
X-ORIGINAL-URL:https://evolve.elsevier.com/education
X-WR-CALDESC:Events for Elsevier Education
REFRESH-INTERVAL;VALUE=DURATION:PT1H
X-Robots-Tag:noindex
X-PUBLISHED-TTL:PT1H
BEGIN:VTIMEZONE
TZID:America/New_York
BEGIN:DAYLIGHT
TZOFFSETFROM:-0500
TZOFFSETTO:-0400
TZNAME:EDT
DTSTART:20230312T070000
END:DAYLIGHT
BEGIN:STANDARD
TZOFFSETFROM:-0400
TZOFFSETTO:-0500
TZNAME:EST
DTSTART:20231105T060000
END:STANDARD
BEGIN:DAYLIGHT
TZOFFSETFROM:-0500
TZOFFSETTO:-0400
TZNAME:EDT
DTSTART:20240310T070000
END:DAYLIGHT
BEGIN:STANDARD
TZOFFSETFROM:-0400
TZOFFSETTO:-0500
TZNAME:EST
DTSTART:20241103T060000
END:STANDARD
BEGIN:DAYLIGHT
TZOFFSETFROM:-0500
TZOFFSETTO:-0400
TZNAME:EDT
DTSTART:20250309T070000
END:DAYLIGHT
BEGIN:STANDARD
TZOFFSETFROM:-0400
TZOFFSETTO:-0500
TZNAME:EST
DTSTART:20251102T060000
END:STANDARD
END:VTIMEZONE
BEGIN:VEVENT
DTSTART;TZID=America/New_York:20240415T110000
DTEND;TZID=America/New_York:20240415T123000
DTSTAMP:20260425T155903
CREATED:20231213T160945Z
LAST-MODIFIED:20240408T181334Z
UID:41967-1713178800-1713184200@evolve.elsevier.com
SUMMARY:Shadow Health Faculty Group Training Webinar - April 15\, 2024
DESCRIPTION:Join our Shadow Health Faculty Group Training Webinar to prepare for your semester today. \nTo learn more or register for this live session\, click the following link: https://survey.alchemer.com/s3/7355090/Group-Training-Webinar-Sign-Up
URL:https://evolve.elsevier.com/education/event/shadow-health-faculty-group-training-webinar-april-15-2024/
CATEGORIES:Shadow Health
END:VEVENT
BEGIN:VEVENT
DTSTART;TZID=America/New_York:20240417T110000
DTEND;TZID=America/New_York:20240417T123000
DTSTAMP:20260425T155903
CREATED:20231213T154807Z
LAST-MODIFIED:20231213T181221Z
UID:41952-1713351600-1713357000@evolve.elsevier.com
SUMMARY:HESI NG Exam Testing Faculty Group Training Webinar - April 17\, 2024
DESCRIPTION:Join our HESI Next Generation (NG) Exam Testing Faculty Group Training Webinar to learn how to set up and administer your HESI NG Exams\, and prepare for your semester today. \nYou can learn more and register for this live session by clicking the following link: https://survey.alchemer.com/s3/7355090/Group-Training-Webinar-Sign-Up
URL:https://evolve.elsevier.com/education/event/hesi-ng-exam-testing-faculty-group-training-webinar-april-17-2024/
CATEGORIES:HESI
END:VEVENT
BEGIN:VEVENT
DTSTART;TZID=America/New_York:20240417T130000
DTEND;TZID=America/New_York:20240417T143000
DTSTAMP:20260425T155903
CREATED:20231213T151408Z
LAST-MODIFIED:20231213T181315Z
UID:41938-1713358800-1713364200@evolve.elsevier.com
SUMMARY:HESI NG Prep Suite Faculty Group Training Webinar - April 17\, 2024
DESCRIPTION:Join our HESI Next Generation (NG) Prep Suite Faculty Group Training Webinar to prepare for your semester today. \nYou can learn more and register for this live session by clicking the following link: https://survey.alchemer.com/s3/7355090/Group-Training-Webinar-Sign-Up
URL:https://evolve.elsevier.com/education/event/hesi-ng-prep-suite-faculty-group-training-webinar-april-17-2024/
CATEGORIES:HESI
END:VEVENT
BEGIN:VEVENT
DTSTART;TZID=America/New_York:20240418T090000
DTEND;TZID=America/New_York:20240418T103000
DTSTAMP:20260425T155903
CREATED:20231213T162133Z
LAST-MODIFIED:20231213T162133Z
UID:41978-1713430800-1713436200@evolve.elsevier.com
SUMMARY:Sherpath Vantage Faculty Group Training Webinar - April 18\, 2024
DESCRIPTION:Join our Sherpath Vantage Faculty Group Training Webinar to learn more about its exciting resources\, features\, and functionality as you prepare to use Vantage this term. \nYou can learn more and register for this live session by clicking the following link: https://survey.alchemer.com/s3/7355090/Group-Training-Webinar-Sign-Up
URL:https://evolve.elsevier.com/education/event/sherpath-vantage-faculty-group-training-webinar-april-18-2024/
CATEGORIES:Sherpath Vantage
END:VEVENT
BEGIN:VEVENT
DTSTART;TZID=America/New_York:20240418T150000
DTEND;TZID=America/New_York:20240418T163000
DTSTAMP:20260425T155903
CREATED:20231213T164410Z
LAST-MODIFIED:20231213T164410Z
UID:41990-1713452400-1713457800@evolve.elsevier.com
SUMMARY:Upgraded Sherpath Faculty Group Training Webinar - April 18\, 2024
DESCRIPTION:Join our Upgraded Sherpath Faculty Group Training Webinar to explore the features\, functionality\, and fully integrated platform as you prepare to use Upgraded Sherpath with your learners this term. \nYou can learn more and register for this live session by clicking the following link: https://survey.alchemer.com/s3/7355090/Group-Training-Webinar-Sign-Up
URL:https://evolve.elsevier.com/education/event/upgraded-sherpath-faculty-group-training-webinar-april-18-2024/
CATEGORIES:Upgraded Sherpath
END:VEVENT
BEGIN:VEVENT
DTSTART;TZID=America/New_York:20240419T090000
DTEND;TZID=America/New_York:20240419T103000
DTSTAMP:20260425T155903
CREATED:20231213T145650Z
LAST-MODIFIED:20240408T201643Z
UID:41923-1713517200-1713522600@evolve.elsevier.com
SUMMARY:EAB in Sherpath Faculty Group Training Webinar - April 19\, 2024
DESCRIPTION:Please join our EAB Faculty Group Training Webinar to learn how to use Elsevier’s Assessment Builder in Sherpath to prepare your learners for the NGN today. \n\nYou can learn more and register for an upcoming session by clicking the following link: https://survey.alchemer.com/s3/7355090/Group-Training-Webinar-Sign-Up
URL:https://evolve.elsevier.com/education/event/eab-in-sherpath-faculty-group-training-webinar-april-18-2024/
CATEGORIES:EAB
END:VEVENT
BEGIN:VEVENT
DTSTART;TZID=America/New_York:20240429T120000
DTEND;TZID=America/New_York:20240429T130000
DTSTAMP:20260425T155903
CREATED:20240320T183656Z
LAST-MODIFIED:20240320T183924Z
UID:43781-1714392000-1714395600@evolve.elsevier.com
SUMMARY:Spring Educator Webinar: Executive HESI Implementation Review - April 29\, 2024
DESCRIPTION:During this webinar\, a Nursing Education Specialist will walk through HESI analytics\, discuss how to identify content areas of opportunity and monitor at-risk students\, and share strategies for helping students prepare for and remediate after HESI exams in order to optimize HESI in your program. \nTo register for this session\, click the following link: https://elsevier.zoom.us/webinar/register/WN_2lf6i2FrTwSfCYNddlrrjg \nIf you have any questions\, please reach out to your Elsevier Customer Success Manager.
URL:https://evolve.elsevier.com/education/event/spring-educator-webinar-executive-hesi-implementation-review-april-29-2024/
CATEGORIES:HESI
END:VEVENT
BEGIN:VEVENT
DTSTART;TZID=America/New_York:20240429T140000
DTEND;TZID=America/New_York:20240429T150000
DTSTAMP:20260425T155903
CREATED:20240320T183312Z
LAST-MODIFIED:20240320T185237Z
UID:43779-1714399200-1714402800@evolve.elsevier.com
SUMMARY:Spring Educator Webinar: Executive Course Implementation Review - April 29\, 2024
DESCRIPTION:During this session\, a Nursing Education Specialist will walk through the Sherpath Performance and Practice Readiness Dashboards\, discuss how to gain meaningful insights from these analytics\, and share strategies for optimizing the resources in Sherpath and Shadow Health in order to drive student success. \nTo register for this session\, click the following link: https://elsevier.zoom.us/webinar/register/WN_Xfd59szqTIWol6F8Z2olDA \nIf you have any questions\, please reach out to your Elsevier Customer Success Manager.
URL:https://evolve.elsevier.com/education/event/spring-educator-webinar-executive-course-implementation-review-april-29-2024/
CATEGORIES:Shadow Health,Sherpath Vantage,Upgraded Sherpath
END:VEVENT
END:VCALENDAR