BEGIN:VCALENDAR
VERSION:2.0
PRODID:-//Elsevier Education - ECPv6.15.18//NONSGML v1.0//EN
CALSCALE:GREGORIAN
METHOD:PUBLISH
X-ORIGINAL-URL:https://evolve.elsevier.com/education
X-WR-CALDESC:Events for Elsevier Education
REFRESH-INTERVAL;VALUE=DURATION:PT1H
X-Robots-Tag:noindex
X-PUBLISHED-TTL:PT1H
BEGIN:VTIMEZONE
TZID:America/New_York
BEGIN:DAYLIGHT
TZOFFSETFROM:-0500
TZOFFSETTO:-0400
TZNAME:EDT
DTSTART:20220313T070000
END:DAYLIGHT
BEGIN:STANDARD
TZOFFSETFROM:-0400
TZOFFSETTO:-0500
TZNAME:EST
DTSTART:20221106T060000
END:STANDARD
BEGIN:DAYLIGHT
TZOFFSETFROM:-0500
TZOFFSETTO:-0400
TZNAME:EDT
DTSTART:20230312T070000
END:DAYLIGHT
BEGIN:STANDARD
TZOFFSETFROM:-0400
TZOFFSETTO:-0500
TZNAME:EST
DTSTART:20231105T060000
END:STANDARD
BEGIN:DAYLIGHT
TZOFFSETFROM:-0500
TZOFFSETTO:-0400
TZNAME:EDT
DTSTART:20240310T070000
END:DAYLIGHT
BEGIN:STANDARD
TZOFFSETFROM:-0400
TZOFFSETTO:-0500
TZNAME:EST
DTSTART:20241103T060000
END:STANDARD
BEGIN:DAYLIGHT
TZOFFSETFROM:-0500
TZOFFSETTO:-0400
TZNAME:EDT
DTSTART:20250309T070000
END:DAYLIGHT
BEGIN:STANDARD
TZOFFSETFROM:-0400
TZOFFSETTO:-0500
TZNAME:EST
DTSTART:20251102T060000
END:STANDARD
END:VTIMEZONE
BEGIN:VTIMEZONE
TZID:America/Chicago
BEGIN:DAYLIGHT
TZOFFSETFROM:-0600
TZOFFSETTO:-0500
TZNAME:CDT
DTSTART:20230312T080000
END:DAYLIGHT
BEGIN:STANDARD
TZOFFSETFROM:-0500
TZOFFSETTO:-0600
TZNAME:CST
DTSTART:20231105T070000
END:STANDARD
BEGIN:DAYLIGHT
TZOFFSETFROM:-0600
TZOFFSETTO:-0500
TZNAME:CDT
DTSTART:20240310T080000
END:DAYLIGHT
BEGIN:STANDARD
TZOFFSETFROM:-0500
TZOFFSETTO:-0600
TZNAME:CST
DTSTART:20241103T070000
END:STANDARD
BEGIN:DAYLIGHT
TZOFFSETFROM:-0600
TZOFFSETTO:-0500
TZNAME:CDT
DTSTART:20250309T080000
END:DAYLIGHT
BEGIN:STANDARD
TZOFFSETFROM:-0500
TZOFFSETTO:-0600
TZNAME:CST
DTSTART:20251102T070000
END:STANDARD
END:VTIMEZONE
BEGIN:VEVENT
DTSTART;TZID=America/New_York:20240222T150000
DTEND;TZID=America/New_York:20240222T163000
DTSTAMP:20260425T082235
CREATED:20231213T163923Z
LAST-MODIFIED:20231213T181028Z
UID:41986-1708614000-1708619400@evolve.elsevier.com
SUMMARY:Upgraded Sherpath Faculty Group Training Webinar - Feb. 22\, 2024
DESCRIPTION:Join our Upgraded Sherpath Faculty Group Training Webinar to explore the features\, functionality\, and fully integrated platform as you prepare to use Upgraded Sherpath with your learners this term. \nYou can learn more and register for this live session by clicking the following link: https://survey.alchemer.com/s3/7355090/Group-Training-Webinar-Sign-Up
URL:https://evolve.elsevier.com/education/event/upgraded-sherpath-faculty-group-training-webinar-feb-22-2024/
END:VEVENT
BEGIN:VEVENT
DTSTART;TZID=America/New_York:20240222T090000
DTEND;TZID=America/New_York:20240222T103000
DTSTAMP:20260425T082235
CREATED:20231213T161856Z
LAST-MODIFIED:20231213T161856Z
UID:41974-1708592400-1708597800@evolve.elsevier.com
SUMMARY:Sherpath Vantage Faculty Group Training Webinar - Feb. 22\, 2024
DESCRIPTION:Join our Sherpath Vantage Faculty Group Training Webinar to learn more about its exciting resources\, features\, and functionality as you prepare to use Vantage this term. \nYou can learn more and register for this live session by clicking the following link: https://survey.alchemer.com/s3/7355090/Group-Training-Webinar-Sign-Up
URL:https://evolve.elsevier.com/education/event/sherpath-vantage-faculty-group-training-webinar-feb-22-2024/
CATEGORIES:Sherpath Vantage
END:VEVENT
BEGIN:VEVENT
DTSTART;TZID=America/New_York:20240209T130000
DTEND;TZID=America/New_York:20240209T143000
DTSTAMP:20260425T082235
CREATED:20231213T160228Z
LAST-MODIFIED:20231213T160228Z
UID:41959-1707483600-1707489000@evolve.elsevier.com
SUMMARY:Shadow Health Faculty Group Training Webinar - Feb. 9\, 2024
DESCRIPTION:Join our Shadow Health Faculty Group Training Webinar to prepare for your semester today. \nYou can learn more and register for this live session by clicking the following link: https://survey.alchemer.com/s3/7355090/Group-Training-Webinar-Sign-Up
URL:https://evolve.elsevier.com/education/event/shadow-health-faculty-group-training-webinar-feb-9-2024/
CATEGORIES:Shadow Health
END:VEVENT
BEGIN:VEVENT
DTSTART;TZID=America/New_York:20240208T130000
DTEND;TZID=America/New_York:20240208T143000
DTSTAMP:20260425T082235
CREATED:20231213T144435Z
LAST-MODIFIED:20231213T181114Z
UID:41915-1707397200-1707402600@evolve.elsevier.com
SUMMARY:EAB in Sherpath Faculty Group Training Webinar - Feb. 8\, 2024
DESCRIPTION:Please join our EAB Faculty Group Training Webinar to learn how to use Elsevier’s Assessment Builder in Sherpath to prepare your learners for the NGN today. \n\nYou can learn more and register for an upcoming session by clicking the following link: https://survey.alchemer.com/s3/7355090/Group-Training-Webinar-Sign-Up
URL:https://evolve.elsevier.com/education/event/eab-in-sherpath-faculty-group-training-webinar-feb-8-2024/
CATEGORIES:EAB
END:VEVENT
BEGIN:VEVENT
DTSTART;TZID=America/New_York:20240207T130000
DTEND;TZID=America/New_York:20240207T143000
DTSTAMP:20260425T082235
CREATED:20231213T161849Z
LAST-MODIFIED:20231213T161849Z
UID:41973-1707310800-1707316200@evolve.elsevier.com
SUMMARY:Sherpath Vantage Faculty Group Training Webinar - Feb. 7\, 2024
DESCRIPTION:Join our Sherpath Vantage Faculty Group Training Webinar to learn more about its exciting resources\, features\, and functionality as you prepare to use Vantage this term. \nYou can learn more and register for this live session by clicking the following link: https://survey.alchemer.com/s3/7355090/Group-Training-Webinar-Sign-Up
URL:https://evolve.elsevier.com/education/event/sherpath-vantage-faculty-group-training-webinar-feb-7-2024/
CATEGORIES:Sherpath Vantage
END:VEVENT
BEGIN:VEVENT
DTSTART;TZID=America/New_York:20240207T090000
DTEND;TZID=America/New_York:20240207T103000
DTSTAMP:20260425T082235
CREATED:20231213T163919Z
LAST-MODIFIED:20231213T163919Z
UID:41985-1707296400-1707301800@evolve.elsevier.com
SUMMARY:Upgraded Sherpath Faculty Group Training Webinar - Feb. 9\, 2024
DESCRIPTION:Join our Upgraded Sherpath Faculty Group Training Webinar to explore the features\, functionality\, and fully integrated platform as you prepare to use Upgraded Sherpath with your learners this term. \nYou can learn more and register for this live session by clicking the following link: https://survey.alchemer.com/s3/7355090/Group-Training-Webinar-Sign-Up
URL:https://evolve.elsevier.com/education/event/upgraded-sherpath-faculty-group-training-webinar-feb-9-2024/
CATEGORIES:Upgraded Sherpath
END:VEVENT
BEGIN:VEVENT
DTSTART;TZID=America/New_York:20240205T150000
DTEND;TZID=America/New_York:20240205T163000
DTSTAMP:20260425T082235
CREATED:20231213T154405Z
LAST-MODIFIED:20231213T181341Z
UID:41944-1707145200-1707150600@evolve.elsevier.com
SUMMARY:HESI NG Exam Testing Faculty Group Training Webinar - Feb. 5\, 2024
DESCRIPTION:Join our HESI Next Generation (NG) Exam Testing Faculty Group Training Webinar to learn how to set up and administer your HESI NG Exams\, and prepare for your semester today. \nYou can learn more and register for this live session by clicking the following link: https://survey.alchemer.com/s3/7355090/Group-Training-Webinar-Sign-Up
URL:https://evolve.elsevier.com/education/event/hesi-ng-exam-testing-faculty-group-training-webinar-feb-5-2024/
CATEGORIES:HESI
END:VEVENT
BEGIN:VEVENT
DTSTART;TZID=America/New_York:20240205T110000
DTEND;TZID=America/New_York:20240205T123000
DTSTAMP:20260425T082235
CREATED:20231213T151004Z
LAST-MODIFIED:20231213T181356Z
UID:41932-1707130800-1707136200@evolve.elsevier.com
SUMMARY:HESI NG Prep Suite Faculty Group Training Webinar - Feb. 5\, 2024
DESCRIPTION:Join our HESI Next Generation (NG) Prep Suite Faculty Group Training Webinar to prepare for your semester today. \nYou can learn more and register for this live session by clicking the following link: https://survey.alchemer.com/s3/7355090/Group-Training-Webinar-Sign-Up
URL:https://evolve.elsevier.com/education/event/hesi-ng-prep-suite-faculty-group-training-webinar-feb-5-2024/
CATEGORIES:HESI
END:VEVENT
BEGIN:VEVENT
DTSTART;TZID=America/New_York:20240131T130000
DTEND;TZID=America/New_York:20240131T143000
DTSTAMP:20260425T082235
CREATED:20231213T150754Z
LAST-MODIFIED:20231213T181406Z
UID:41930-1706706000-1706711400@evolve.elsevier.com
SUMMARY:HESI NG Prep Suite Faculty Group Training Webinar - Jan. 31\, 2024
DESCRIPTION:Join our HESI Next Generation (NG) Prep Suite Faculty Group Training Webinar to prepare for your semester today. \nYou can learn more and register for this live session by clicking the following link: https://survey.alchemer.com/s3/7355090/Group-Training-Webinar-Sign-Up
URL:https://evolve.elsevier.com/education/event/hesi-ng-prep-suite-faculty-group-training-webinar-jan-31-2024/
CATEGORIES:HESI
END:VEVENT
BEGIN:VEVENT
DTSTART;TZID=America/New_York:20240131T090000
DTEND;TZID=America/New_York:20240131T103000
DTSTAMP:20260425T082235
CREATED:20231213T154007Z
LAST-MODIFIED:20231213T181301Z
UID:41942-1706691600-1706697000@evolve.elsevier.com
SUMMARY:HESI NG Exam Testing Faculty Group Training Webinar - Jan. 31\, 2024
DESCRIPTION:Join our HESI Next Generation (NG) Exam Testing Faculty Group Training Webinar to learn how to set up and administer your HESI NG Exams\, and prepare for your semester today. \nYou can learn more and register for this live session by clicking the following link: https://survey.alchemer.com/s3/7355090/Group-Training-Webinar-Sign-Up
URL:https://evolve.elsevier.com/education/event/hesi-ng-testing-faculty-group-training-webinar-jan-31-2024/
CATEGORIES:HESI
END:VEVENT
BEGIN:VEVENT
DTSTART;TZID=America/New_York:20240130T090000
DTEND;TZID=America/New_York:20240130T103000
DTSTAMP:20260425T082235
CREATED:20231213T155549Z
LAST-MODIFIED:20231213T155549Z
UID:41957-1706605200-1706610600@evolve.elsevier.com
SUMMARY:Shadow Health Faculty Group Training Webinar - Jan. 30\, 2024
DESCRIPTION:Join our Shadow Health Faculty Group Training Webinar to prepare for your semester today. \nYou can learn more and register for this live session by clicking the following link: https://survey.alchemer.com/s3/7355090/Group-Training-Webinar-Sign-Up
URL:https://evolve.elsevier.com/education/event/shadow-health-faculty-group-training-webinar-jan-30-2024/
CATEGORIES:Shadow Health
END:VEVENT
BEGIN:VEVENT
DTSTART;TZID=America/Chicago:20240129T130000
DTEND;TZID=America/Chicago:20240129T170000
DTSTAMP:20260425T082235
CREATED:20231213T163729Z
LAST-MODIFIED:20231213T163729Z
UID:41982-1706533200-1706547600@evolve.elsevier.com
SUMMARY:Upgraded Sherpath Faculty Group Training Webinar - Jan. 29\, 2024
DESCRIPTION:Join our Upgraded Sherpath Faculty Group Training Webinar to explore the features\, functionality\, and fully integrated platform as you prepare to use Upgraded Sherpath with your learners this term. \nYou can learn more and register for this live session by clicking the following link: https://survey.alchemer.com/s3/7355090/Group-Training-Webinar-Sign-Up
URL:https://evolve.elsevier.com/education/event/upgraded-sherpath-faculty-group-training-webinar-jan-29-2024/
CATEGORIES:Upgraded Sherpath
END:VEVENT
BEGIN:VEVENT
DTSTART;TZID=America/New_York:20240129T110000
DTEND;TZID=America/New_York:20240129T123000
DTSTAMP:20260425T082235
CREATED:20231213T161631Z
LAST-MODIFIED:20231213T161631Z
UID:41970-1706526000-1706531400@evolve.elsevier.com
SUMMARY:Sherpath Vantage Faculty Group Training Webinar - Jan. 29\, 2024
DESCRIPTION:Join our Sherpath Vantage Faculty Group Training Webinar to learn more about its exciting resources\, features\, and functionality as you prepare to use Vantage this term. \nYou can learn more and register for this live session by clicking the following link: https://survey.alchemer.com/s3/7355090/Group-Training-Webinar-Sign-Up
URL:https://evolve.elsevier.com/education/event/sherpath-vantage-faculty-group-training-webinar-jan-29-2024/
CATEGORIES:Sherpath Vantage
END:VEVENT
BEGIN:VEVENT
DTSTART;TZID=America/New_York:20240126T130000
DTEND;TZID=America/New_York:20240126T140000
DTSTAMP:20260425T082235
CREATED:20231213T211321Z
LAST-MODIFIED:20231213T211321Z
UID:42033-1706274000-1706277600@evolve.elsevier.com
SUMMARY:Getting Started with HESI
DESCRIPTION:This session will cover HESI testing best practices\, how to review HESI exam results\, HESI remediation\, and include strategies for utilizing EAQ for NCLEX as part of HESI preparation and remediation. \nClick the following link to register: https://elsevier.zoom.us/webinar/register/WN_pytFbDzhTUS23s372wRi3Q
URL:https://evolve.elsevier.com/education/event/getting-started-with-hesi-8/
CATEGORIES:Sherpath Vantage,Upgraded Sherpath
END:VEVENT
BEGIN:VEVENT
DTSTART;TZID=America/New_York:20240126T110000
DTEND;TZID=America/New_York:20240126T123000
DTSTAMP:20260425T082235
CREATED:20231213T211614Z
LAST-MODIFIED:20231213T211627Z
UID:42037-1706266800-1706272200@evolve.elsevier.com
SUMMARY:Getting Started in Your Class
DESCRIPTION:This session will cover best practices for using Sherpath/Sherpath Vantage and give strategies to increase student preparation for\, and engagement in\, your class. \nClick the following link to register: https://elsevier.zoom.us/webinar/register/WN_Ex9fV61fR6KZmo9whyXGDQ
URL:https://evolve.elsevier.com/education/event/getting-started-in-your-class-3/
CATEGORIES:Sherpath Vantage,Upgraded Sherpath
END:VEVENT
BEGIN:VEVENT
DTSTART;TZID=America/New_York:20240125T130000
DTEND;TZID=America/New_York:20240125T143000
DTSTAMP:20260425T082235
CREATED:20231213T165131Z
LAST-MODIFIED:20231213T165907Z
UID:41994-1706187600-1706193000@evolve.elsevier.com
SUMMARY:SLS Faculty Group Training Webinar - Jan. 25\, 2024
DESCRIPTION:Join our Simulation Learning System (SLS) Faculty Group Training Webinar to review its features\, functionality\, and resources as you prepare to integrate simulation into your curriculum and use SLS with your learners this term. \nYou can learn more and register for this live session by clicking the following link: https://survey.alchemer.com/s3/7355090/Group-Training-Webinar-Sign-Up
URL:https://evolve.elsevier.com/education/event/sls-faculty-group-training-webinar-jan-25-2024/
CATEGORIES:SLS
END:VEVENT
BEGIN:VEVENT
DTSTART;TZID=America/New_York:20240125T090000
DTEND;TZID=America/New_York:20240125T103000
DTSTAMP:20260425T082235
CREATED:20231213T143017Z
LAST-MODIFIED:20231213T181122Z
UID:41913-1706173200-1706178600@evolve.elsevier.com
SUMMARY:EAB in Sherpath Faculty Group Training Webinar - Jan. 25\, 2024
DESCRIPTION:Please join our EAB Faculty Group Training Webinar to learn how to use Elsevier’s Assessment Builder in Sherpath to prepare your learners for the NGN today. \n\nYou can learn more and register for an upcoming session by clicking the following link: https://survey.alchemer.com/s3/7355090/Group-Training-Webinar-Sign-Up
URL:https://evolve.elsevier.com/education/event/eab-in-sherpath-faculty-group-training-webinar-jan-25-2024/
CATEGORIES:EAB
END:VEVENT
BEGIN:VEVENT
DTSTART;TZID=America/New_York:20240118T160000
DTEND;TZID=America/New_York:20240118T170000
DTSTAMP:20260425T082235
CREATED:20231213T211225Z
LAST-MODIFIED:20231213T211225Z
UID:42032-1705593600-1705597200@evolve.elsevier.com
SUMMARY:Getting Started with HESI
DESCRIPTION:This session will cover HESI testing best practices\, how to review HESI exam results\, HESI remediation\, and include strategies for utilizing EAQ for NCLEX as part of HESI preparation and remediation. \nClick the following link to register: https://elsevier.zoom.us/webinar/register/WN_pfWujDZLRxm8gYIEiibHjw
URL:https://evolve.elsevier.com/education/event/getting-started-with-hesi-7/
CATEGORIES:Sherpath Vantage,Upgraded Sherpath
END:VEVENT
BEGIN:VEVENT
DTSTART;TZID=America/New_York:20240118T140000
DTEND;TZID=America/New_York:20240118T153000
DTSTAMP:20260425T082235
CREATED:20231213T211508Z
LAST-MODIFIED:20231213T211658Z
UID:42036-1705586400-1705591800@evolve.elsevier.com
SUMMARY:Getting Started in Your Class
DESCRIPTION:This session will cover best practices for using Sherpath/Sherpath Vantage and give strategies to increase student preparation for\, and engagement in\, your class. \nClick the following link to register: https://elsevier.zoom.us/webinar/register/WN_4AXgGdaGRCSDwc0BeX8HrQ
URL:https://evolve.elsevier.com/education/event/getting-started-in-your-class-2/
CATEGORIES:Sherpath Vantage,Upgraded Sherpath
END:VEVENT
BEGIN:VEVENT
DTSTART;TZID=America/New_York:20240117T150000
DTEND;TZID=America/New_York:20240117T163000
DTSTAMP:20260425T082235
CREATED:20231213T140535Z
LAST-MODIFIED:20231213T181128Z
UID:41910-1705503600-1705509000@evolve.elsevier.com
SUMMARY:EAB in Sherpath Faculty Group Training Webinar - Jan. 17\, 2024
DESCRIPTION:Please join our EAB Faculty Group Training Webinar to learn how to use Elsevier’s Assessment Builder in Sherpath to prepare your learners for the NGN today. \n\nYou can learn more and register for an upcoming session by clicking the following link: https://survey.alchemer.com/s3/7355090/Group-Training-Webinar-Sign-Up
URL:https://evolve.elsevier.com/education/event/eab-sherpath-assessments-assignments-overview-faculty-group-training-webinar-jan-17-2024/
CATEGORIES:EAB
END:VEVENT
BEGIN:VEVENT
DTSTART;TZID=America/New_York:20240117T130000
DTEND;TZID=America/New_York:20240117T143000
DTSTAMP:20260425T082235
CREATED:20231213T155353Z
LAST-MODIFIED:20231213T155443Z
UID:41954-1705496400-1705501800@evolve.elsevier.com
SUMMARY:Shadow Health Faculty Group Training Webinar - Jan. 17\, 2024
DESCRIPTION:Join our Shadow Health Faculty Group Training Webinar to prepare for your semester today. \nYou can learn more and register for this live session by clicking the following link: https://survey.alchemer.com/s3/7355090/Group-Training-Webinar-Sign-Up
URL:https://evolve.elsevier.com/education/event/shadow-health-faculty-group-training-webinar-jan-17-2024/
CATEGORIES:Shadow Health
END:VEVENT
BEGIN:VEVENT
DTSTART;TZID=America/New_York:20240116T140000
DTEND;TZID=America/New_York:20240116T150000
DTSTAMP:20260425T082235
CREATED:20231213T211036Z
LAST-MODIFIED:20231213T211036Z
UID:42029-1705413600-1705417200@evolve.elsevier.com
SUMMARY:Getting Started with HESI
DESCRIPTION:This session will cover HESI testing best practices\, how to review HESI exam results\, HESI remediation\, and include strategies for utilizing EAQ for NCLEX as part of HESI preparation and remediation. \nClick the following link to register: https://elsevier.zoom.us/webinar/register/WN_UuOoG5O0Rr2Qh0JKw7QAKQ
URL:https://evolve.elsevier.com/education/event/getting-started-with-hesi-6/
CATEGORIES:Sherpath Vantage,Upgraded Sherpath
END:VEVENT
BEGIN:VEVENT
DTSTART;TZID=America/New_York:20240116T120000
DTEND;TZID=America/New_York:20240116T133000
DTSTAMP:20260425T082235
CREATED:20231213T210548Z
LAST-MODIFIED:20231213T211838Z
UID:42028-1705406400-1705411800@evolve.elsevier.com
SUMMARY:Getting Started in Your Class
DESCRIPTION:This session will cover best practices for using Sherpath/Sherpath Vantage and give strategies to increase student preparation for\, and engagement in\, your class. \nClick the following link to register: https://elsevier.zoom.us/webinar/register/WN_rbZvUlhjTYSjboP18CIY8A
URL:https://evolve.elsevier.com/education/event/getting-started-in-your-class/
CATEGORIES:Sherpath Vantage,Upgraded Sherpath
END:VEVENT
BEGIN:VEVENT
DTSTART;TZID=America/New_York:20240110T110000
DTEND;TZID=America/New_York:20240110T120000
DTSTAMP:20260425T082235
CREATED:20231213T195959Z
LAST-MODIFIED:20231213T200209Z
UID:42023-1704884400-1704888000@evolve.elsevier.com
SUMMARY:Getting Started with HESI
DESCRIPTION:This session will cover HESI testing best practices\, how to review HESI exam results\, HESI remediation\, and include strategies for utilizing EAQ for NCLEX as part of HESI preparation and remediation. \nClick the following link to register: https://elsevier.zoom.us/webinar/register/WN_UuOoG5O0Rr2Qh0JKw7QAKQ
URL:https://evolve.elsevier.com/education/event/getting-started-with-hesi-5/
CATEGORIES:HESI
END:VEVENT
BEGIN:VEVENT
DTSTART;TZID=America/New_York:20240110T090000
DTEND;TZID=America/New_York:20240110T103000
DTSTAMP:20260425T082235
CREATED:20231213T195544Z
LAST-MODIFIED:20231213T211730Z
UID:42020-1704877200-1704882600@evolve.elsevier.com
SUMMARY:Getting Started in Your Class
DESCRIPTION:This session will cover best practices for using Sherpath/Sherpath Vantage and give strategies to increase student preparation for\, and engagement in\, your class. \nClick the following link to register: https://elsevier.zoom.us/webinar/register/WN_xTBEcXtyTRGWxoEfqM13PQ
URL:https://evolve.elsevier.com/education/event/getting-started-in-the-classroom/
CATEGORIES:Sherpath Vantage,Upgraded Sherpath
END:VEVENT
BEGIN:VEVENT
DTSTART;TZID=America/New_York:20240109T130000
DTEND;TZID=America/New_York:20240109T143000
DTSTAMP:20260425T082235
CREATED:20231213T153811Z
LAST-MODIFIED:20231213T181310Z
UID:41940-1704805200-1704810600@evolve.elsevier.com
SUMMARY:HESI NG Exam Testing Faculty Group Training Webinar - Jan. 9\, 2024
DESCRIPTION:Join our HESI Next Generation (NG) Exam Testing Faculty Group Training Webinar to learn how to set up and administer your HESI NG Exams\, and prepare for your semester today. \nYou can learn more and register for this live session by clicking the following link: https://survey.alchemer.com/s3/7355090/Group-Training-Webinar-Sign-Up
URL:https://evolve.elsevier.com/education/event/hesi-ng-testing-faculty-group-training-webinar-jan-9-2024/
CATEGORIES:HESI
END:VEVENT
BEGIN:VEVENT
DTSTART;TZID=America/New_York:20240109T090000
DTEND;TZID=America/New_York:20240109T103000
DTSTAMP:20260425T082235
CREATED:20231213T150531Z
LAST-MODIFIED:20231213T181415Z
UID:41927-1704790800-1704796200@evolve.elsevier.com
SUMMARY:HESI NG Prep Suite Faculty Group Training Webinar - Jan. 9\, 2024
DESCRIPTION:Join our HESI Next Generation (NG) Prep Suite Faculty Group Training Webinar to prepare for your semester today. \nYou can learn more and register for this live session by clicking the following link: https://survey.alchemer.com/s3/7355090/Group-Training-Webinar-Sign-Up
URL:https://evolve.elsevier.com/education/event/hesi-ng-prep-suite-faculty-group-training-webinar-feb-8-2024/
CATEGORIES:HESI
END:VEVENT
BEGIN:VEVENT
DTSTART;TZID=America/New_York:20240108T130000
DTEND;TZID=America/New_York:20240108T143000
DTSTAMP:20260425T082235
CREATED:20231213T161629Z
LAST-MODIFIED:20231213T161629Z
UID:41969-1704718800-1704724200@evolve.elsevier.com
SUMMARY:Sherpath Vantage Faculty Group Training Webinar - Jan. 8\, 2024
DESCRIPTION:Join our Sherpath Vantage Faculty Group Training Webinar to learn more about its exciting resources\, features\, and functionality as you prepare to use Vantage this term. \nYou can learn more and register for this live session by clicking the following link: https://survey.alchemer.com/s3/7355090/Group-Training-Webinar-Sign-Up
URL:https://evolve.elsevier.com/education/event/sherpath-vantage-faculty-group-training-webinar-jan-8-2024/
CATEGORIES:Sherpath Vantage
END:VEVENT
BEGIN:VEVENT
DTSTART;TZID=America/New_York:20231215T130000
DTEND;TZID=America/New_York:20231215T143000
DTSTAMP:20260425T082235
CREATED:20230902T121629Z
LAST-MODIFIED:20230902T121629Z
UID:39844-1702645200-1702650600@evolve.elsevier.com
SUMMARY:Upgraded Sherpath Group Training Webinar-Dec. 15\, 2023
DESCRIPTION:Please join this Upgraded Sherpath Group Training Webinar to learn all about the resources and features in Sherpath. \n\nYou can learn more and register at this link: https://survey.alchemer.com/s3/7355090/Group-Training-Webinar-Sign-Up
URL:https://evolve.elsevier.com/education/event/upgraded-sherpath-group-training-webinar-dec-15-2023/
CATEGORIES:Upgraded Sherpath
END:VEVENT
BEGIN:VEVENT
DTSTART;TZID=America/New_York:20231214T090000
DTEND;TZID=America/New_York:20231214T103000
DTSTAMP:20260425T082235
CREATED:20230902T130934Z
LAST-MODIFIED:20230902T130934Z
UID:39850-1702544400-1702549800@evolve.elsevier.com
SUMMARY:Sherpath Vantage Group Training Webinar-Dec. 14\, 2023
DESCRIPTION:Please join this Sherpath Vantage Group Training Webinar to learn more about the exciting resources and features in Vantage. \nYou can learn more and register at this link: https://survey.alchemer.com/s3/7355090/Group-Training-Webinar-Sign-Up
URL:https://evolve.elsevier.com/education/event/sherpath-vantage-group-training-webinar-dec-14-2023/
CATEGORIES:Sherpath Vantage
END:VEVENT
END:VCALENDAR