BEGIN:VCALENDAR
VERSION:2.0
PRODID:-//Elsevier Education - ECPv6.15.18//NONSGML v1.0//EN
CALSCALE:GREGORIAN
METHOD:PUBLISH
X-WR-CALNAME:Elsevier Education
X-ORIGINAL-URL:https://evolve.elsevier.com/education
X-WR-CALDESC:Events for Elsevier Education
REFRESH-INTERVAL;VALUE=DURATION:PT1H
X-Robots-Tag:noindex
X-PUBLISHED-TTL:PT1H
BEGIN:VTIMEZONE
TZID:America/New_York
BEGIN:DAYLIGHT
TZOFFSETFROM:-0500
TZOFFSETTO:-0400
TZNAME:EDT
DTSTART:20230312T070000
END:DAYLIGHT
BEGIN:STANDARD
TZOFFSETFROM:-0400
TZOFFSETTO:-0500
TZNAME:EST
DTSTART:20231105T060000
END:STANDARD
BEGIN:DAYLIGHT
TZOFFSETFROM:-0500
TZOFFSETTO:-0400
TZNAME:EDT
DTSTART:20240310T070000
END:DAYLIGHT
BEGIN:STANDARD
TZOFFSETFROM:-0400
TZOFFSETTO:-0500
TZNAME:EST
DTSTART:20241103T060000
END:STANDARD
BEGIN:DAYLIGHT
TZOFFSETFROM:-0500
TZOFFSETTO:-0400
TZNAME:EDT
DTSTART:20250309T070000
END:DAYLIGHT
BEGIN:STANDARD
TZOFFSETFROM:-0400
TZOFFSETTO:-0500
TZNAME:EST
DTSTART:20251102T060000
END:STANDARD
END:VTIMEZONE
BEGIN:VTIMEZONE
TZID:America/Chicago
BEGIN:DAYLIGHT
TZOFFSETFROM:-0600
TZOFFSETTO:-0500
TZNAME:CDT
DTSTART:20230312T080000
END:DAYLIGHT
BEGIN:STANDARD
TZOFFSETFROM:-0500
TZOFFSETTO:-0600
TZNAME:CST
DTSTART:20231105T070000
END:STANDARD
BEGIN:DAYLIGHT
TZOFFSETFROM:-0600
TZOFFSETTO:-0500
TZNAME:CDT
DTSTART:20240310T080000
END:DAYLIGHT
BEGIN:STANDARD
TZOFFSETFROM:-0500
TZOFFSETTO:-0600
TZNAME:CST
DTSTART:20241103T070000
END:STANDARD
BEGIN:DAYLIGHT
TZOFFSETFROM:-0600
TZOFFSETTO:-0500
TZNAME:CDT
DTSTART:20250309T080000
END:DAYLIGHT
BEGIN:STANDARD
TZOFFSETFROM:-0500
TZOFFSETTO:-0600
TZNAME:CST
DTSTART:20251102T070000
END:STANDARD
END:VTIMEZONE
BEGIN:VEVENT
DTSTART;TZID=America/New_York:20241021T090000
DTEND;TZID=America/New_York:20241021T103000
DTSTAMP:20260425T054132
CREATED:20241004T104717Z
LAST-MODIFIED:20241004T104717Z
UID:47453-1729501200-1729506600@evolve.elsevier.com
SUMMARY:Sherpath for RadTech Faculty Group Training Webinar
DESCRIPTION:Join our upcoming Sherpath for Radiologic Technology (RadTech) Faculty Group Training Webinar today. In this session\, we will explore the features\, functionality\, and fully integrated platform as you prepare to use Sherpath for RadTech with your learners this term. \nTo learn more or register for this live session\, click here.
URL:https://evolve.elsevier.com/education/event/sherpath-for-radtech-faculty-group-training-webinar/
CATEGORIES:Sherpath,Sherpath for HP,Sherpath for RadTech
END:VEVENT
BEGIN:VEVENT
DTSTART;TZID=America/New_York:20241015T150000
DTEND;TZID=America/New_York:20241015T163000
DTSTAMP:20260425T054132
CREATED:20241004T105713Z
LAST-MODIFIED:20241004T105744Z
UID:47466-1729004400-1729009800@evolve.elsevier.com
SUMMARY:Shadow Health Faculty Group Training Webinar
DESCRIPTION:Join our upcoming Shadow Health Faculty Group Training Webinar today. In this session\, we will review the basic functionality and features of Shadow Health to help you prepare to use our high-fidelity virtual simulations with your learners. \nTo learn more or register for this live session\, click here.
URL:https://evolve.elsevier.com/education/event/shadow-health-faculty-group-training-webinar-4/
CATEGORIES:Shadow Health
END:VEVENT
BEGIN:VEVENT
DTSTART;TZID=America/New_York:20241015T130000
DTEND;TZID=America/New_York:20241015T143000
DTSTAMP:20260425T054132
CREATED:20241004T102329Z
LAST-MODIFIED:20241004T102435Z
UID:47434-1728997200-1729002600@evolve.elsevier.com
SUMMARY:Sherpath Faculty Group Training Webinar
DESCRIPTION:Join our upcoming Sherpath Faculty Group Training Webinar today. In this session\, we will explore the features\, functionality\, and fully integrated platform as you prepare to use Sherpath with your learners this term. \nTo learn more or register for this live session\, click here.
URL:https://evolve.elsevier.com/education/event/sherpath-for-da-faculty-group-training-webinar-4/
CATEGORIES:Sherpath
END:VEVENT
BEGIN:VEVENT
DTSTART;TZID=America/New_York:20241010T130000
DTEND;TZID=America/New_York:20241010T140000
DTSTAMP:20260425T054132
CREATED:20241004T104108Z
LAST-MODIFIED:20241004T104108Z
UID:47447-1728565200-1728568800@evolve.elsevier.com
SUMMARY:Osmosis Faculty Group Training Webinar
DESCRIPTION:Join our Osmosis Faculty Group Training Webinar to learn how to use the features and functionality of Osmosis standalone. In this webinar\, we will review platform access\, navigation and customization\, and user analytics. \nYou can learn more and register for this live session by clicking here. \nIf you are using Osmosis videos in Sherpath\, join us at an upcoming Sherpath or Sherpath Vantage Faculty Group Training Webinar. 
URL:https://evolve.elsevier.com/education/event/osmosis-faculty-group-training-webinar-3/
CATEGORIES:Osmosis
END:VEVENT
BEGIN:VEVENT
DTSTART;TZID=America/New_York:20241010T110000
DTEND;TZID=America/New_York:20241010T123000
DTSTAMP:20260425T054132
CREATED:20241003T163234Z
LAST-MODIFIED:20241003T163234Z
UID:47431-1728558000-1728563400@evolve.elsevier.com
SUMMARY:Sherpath for DA Faculty Group Training Webinar
DESCRIPTION:Join our upcoming Sherpath for Dental Assisting (DA) Faculty Group Training Webinar today. In this session\, we will explore the features\, functionality\, and fully integrated platform as you prepare to use Sherpath for DA with your learners this term. \nTo learn more or register for this live session\, click here.
URL:https://evolve.elsevier.com/education/event/sherpath-for-da-faculty-group-training-webinar-3/
CATEGORIES:Sherpath for DA
END:VEVENT
BEGIN:VEVENT
DTSTART;TZID=America/New_York:20241009T150000
DTEND;TZID=America/New_York:20241009T160000
DTSTAMP:20260425T054132
CREATED:20241003T162556Z
LAST-MODIFIED:20241003T162556Z
UID:47424-1728486000-1728489600@evolve.elsevier.com
SUMMARY:HESI NG Prep Suite Faculty Group Training Webinar
DESCRIPTION:Join our HESI Next Generation (NG) Prep Suite Faculty Group Training Webinar to help prepare your learners for their HESI exams. In this webinar\, we will review the assignment types\, course set up\, and course navigation. \nTo learn more and register for this session\, click here.
URL:https://evolve.elsevier.com/education/event/hesi-ng-prep-suite-faculty-group-training-webinar-3/
CATEGORIES:HESI
END:VEVENT
BEGIN:VEVENT
DTSTART;TZID=America/New_York:20241009T090000
DTEND;TZID=America/New_York:20241009T100000
DTSTAMP:20260425T054132
CREATED:20241009T125529Z
LAST-MODIFIED:20241009T125529Z
UID:47483-1728464400-1728468000@evolve.elsevier.com
SUMMARY:HESI NG Testing Faculty Group Training Webinar
DESCRIPTION:Join our HESI Next Generation (NG) Exam Testing Faculty Group Training Webinar to learn how to set up and administer your HESI NG Exams\, and prepare for your semester today! \nYou can learn more and register for this live session by clicking here.
URL:https://evolve.elsevier.com/education/event/hesi-ng-testing-faculty-group-training-webinar-4/
CATEGORIES:HESI
END:VEVENT
BEGIN:VEVENT
DTSTART;TZID=America/New_York:20241008T103000
DTEND;TZID=America/New_York:20241008T120000
DTSTAMP:20260425T054132
CREATED:20241004T110905Z
LAST-MODIFIED:20241004T110905Z
UID:47472-1728383400-1728388800@evolve.elsevier.com
SUMMARY:NCPD Webinar Series: Building Confidence and Competence
DESCRIPTION:Elsevier’s Excellence in Nursing Webinar Series has arrived for the Fall 2024 season and our experienced Nursing Education Specialists are here to equip you with the tools you need to make a lasting impact on your students and curriculum. \nJoin us for an insightful session where we will explore current challenges in the educational journey and transition to new graduate nurse\, discuss innovative teaching methods and evaluation of nursing students toward meeting competency standards and discuss the role of mentorship and support for faculty. \nClick here to register now and secure your spot to join us in discussing how to build confidence as a new nurse. You can also view additional sessions in the Fall 2024 Excellence in Nursing Webinar Series by clicking here.
URL:https://evolve.elsevier.com/education/event/ncpd-webinar-series-building-confidence-and-competence/
CATEGORIES:Fall NCPD Series,NES Webinars
END:VEVENT
BEGIN:VEVENT
DTSTART;TZID=America/New_York:20240927T120000
DTEND;TZID=America/New_York:20240927T130000
DTSTAMP:20260425T054132
CREATED:20240816T173330Z
LAST-MODIFIED:20240816T173804Z
UID:47018-1727438400-1727442000@evolve.elsevier.com
SUMMARY:Sherpath for Dental Assisting Product Demo Webinar with Book Authors
DESCRIPTION:Join us for a dynamic webinar “A MODERN Approach to Teaching Today’s Dental Assistants”\, designed exclusively for dental assisting program faculty. This session will explore innovative teaching strategies and the latest educational technologies to enhance your curriculum using Sherpath. Learn how to engage and prepare students for the evolving demands of the dental profession\, with practical insights from the author team of Modern Dental Assisting\, Debbie Robinson and Dr. Janet Sell. Don’t miss this opportunity to elevate your teaching methods and empower the next generation of dental assistants. \nThis webinar will be recorded for all registrants. To register for this product demo webinar session\, click here.
URL:https://evolve.elsevier.com/education/event/sherpath-for-dental-assisting-product-demo-webinar/
CATEGORIES:Product and Sales Webinars,Sherpath for DA
END:VEVENT
BEGIN:VEVENT
DTSTART;TZID=America/New_York:20240926T130000
DTEND;TZID=America/New_York:20240926T140000
DTSTAMP:20260425T054132
CREATED:20240721T132106Z
LAST-MODIFIED:20240925T121657Z
UID:46558-1727355600-1727359200@evolve.elsevier.com
SUMMARY:Osmosis Faculty Group Training Webinar
DESCRIPTION:Join our Osmosis Faculty Group Training Webinar to learn how to use the features and functionality of Osmosis standalone. \nYou can learn more and register for this live session by clicking here. \nIf you are using Osmosis videos in Sherpath\, join us at an upcoming Sherpath or Sherpath Vantage Faculty Group Training Webinar. 
URL:https://evolve.elsevier.com/education/event/osmosis-faculty-group-training-webinar-2/
CATEGORIES:Osmosis
END:VEVENT
BEGIN:VEVENT
DTSTART;TZID=America/New_York:20240926T123000
DTEND;TZID=America/New_York:20240926T140000
DTSTAMP:20260425T054132
CREATED:20240926T003056Z
LAST-MODIFIED:20250213T090543Z
UID:47378-1727353800-1727359200@evolve.elsevier.com
SUMMARY:NCPD Webinar Series: Demystifying AI and Harnessing its Potential
DESCRIPTION:Elsevier’s Excellence in Nursing Webinar Series has arrived for the Fall 2024 season and our experienced Nursing Education Specialists are here to equip you with the tools you need to make a lasting impact on your students and curriculum. \nJoin us for an informative and educational webinar exploring the cutting-edge world of generative AI in nursing education. Our NES Team will address head-on some of the beliefs and myths around how generative AI works\, what it is\, and what it is not so you can be a more informed educator in deciding if and how to embrace it for your students. \nClick here to register now and secure your spot to join us in discussing how we can shape the future of nursing education with AI. You can also view additional sessions in the Fall 2024 Excellence in Nursing Webinar Series by clicking here.
URL:https://evolve.elsevier.com/education/event/ncpd-webinar-series-demystifying-ai-and-harnessing-its-potential/
CATEGORIES:NES Webinars
END:VEVENT
BEGIN:VEVENT
DTSTART;TZID=America/Chicago:20240925T110000
DTEND;TZID=America/Chicago:20240925T123000
DTSTAMP:20260425T054132
CREATED:20240722T103341Z
LAST-MODIFIED:20240722T103341Z
UID:46582-1727262000-1727267400@evolve.elsevier.com
SUMMARY:Simulation Learning System Faculty Group Training Webinar
DESCRIPTION:Join our upcoming Simulation Learning System (SLS) Faculty Group Training Webinar today. In this session\, we will explore its features\, functionality\, and resources as you prepare to integrate simulations into your curriculum and use SLS with your learners this term. \nTo learn more or register for this live session\, click here.
URL:https://evolve.elsevier.com/education/event/simulation-learning-system-faculty-group-training-webinar/
CATEGORIES:SLS
END:VEVENT
BEGIN:VEVENT
DTSTART;TZID=America/New_York:20240918T150000
DTEND;TZID=America/New_York:20240918T163000
DTSTAMP:20260425T054132
CREATED:20240720T002840Z
LAST-MODIFIED:20240720T002840Z
UID:46552-1726671600-1726677000@evolve.elsevier.com
SUMMARY:EAB in Sherpath Faculty Group Training Webinar
DESCRIPTION:Join our EAB Faculty Group Training Webinar to learn how to use Elsevier’s Assessment Builder in Sherpath to prepare your learners for the Next Generation NCLEX today. \nYou can learn more and register for this live session by clicking here.
URL:https://evolve.elsevier.com/education/event/eab-in-sherpath-faculty-group-training-webinar-2/
CATEGORIES:EAB,Sherpath,Sherpath Vantage
END:VEVENT
BEGIN:VEVENT
DTSTART;TZID=America/New_York:20240917T090000
DTEND;TZID=America/New_York:20240917T103000
DTSTAMP:20260425T054132
CREATED:20240722T102830Z
LAST-MODIFIED:20240722T102830Z
UID:46576-1726563600-1726569000@evolve.elsevier.com
SUMMARY:Sherpath Faculty Group Training Webinar
DESCRIPTION:Join our upcoming Sherpath Faculty Group Training Webinar today. In this session\, we will explore the features\, functionality\, and fully integrated platform as you prepare to use Sherpath with your learners this term. \nTo learn more or register for this live session\, click here.
URL:https://evolve.elsevier.com/education/event/sherpath-faculty-group-training-webinar-3/
CATEGORIES:Sherpath
END:VEVENT
BEGIN:VEVENT
DTSTART;TZID=America/New_York:20240912T110000
DTEND;TZID=America/New_York:20240912T123000
DTSTAMP:20260425T054132
CREATED:20240722T101942Z
LAST-MODIFIED:20240722T101942Z
UID:46564-1726138800-1726144200@evolve.elsevier.com
SUMMARY:Shadow Health Faculty Group Training Webinar
DESCRIPTION:Join our upcoming Shadow Health Faculty Group Training Webinar today. In this session\, we will review the basic functionality and features to help you prepare to use our high-fidelity virtual simulations with your learners. \nTo learn more or register for this live session\, click here.
URL:https://evolve.elsevier.com/education/event/shadow-health-faculty-group-training-webinar-3/
CATEGORIES:Shadow Health
END:VEVENT
BEGIN:VEVENT
DTSTART;TZID=America/New_York:20240911T150000
DTEND;TZID=America/New_York:20240911T160000
DTSTAMP:20260425T054132
CREATED:20240720T001624Z
LAST-MODIFIED:20240720T001624Z
UID:46538-1726066800-1726070400@evolve.elsevier.com
SUMMARY:HESI NG Prep Suite Faculty Group Training Webinar
DESCRIPTION:Join our HESI Next Generation (NG) Prep Suite Faculty Group Training Webinar to prepare for your semester today. \nYou can learn more and register for this live session by clicking the following link: https://survey.alchemer.com/s3/7355090/Group-Training-Webinar-Sign-Up.
URL:https://evolve.elsevier.com/education/event/hesi-ng-prep-suite-faculty-group-training-webinar-2/
CATEGORIES:HESI
END:VEVENT
BEGIN:VEVENT
DTSTART;TZID=America/New_York:20240911T090000
DTEND;TZID=America/New_York:20240911T100000
DTSTAMP:20260425T054132
CREATED:20240720T002348Z
LAST-MODIFIED:20240720T002348Z
UID:46547-1726045200-1726048800@evolve.elsevier.com
SUMMARY:HESI NG Testing Faculty Group Training Webinar
DESCRIPTION:Join our HESI Next Generation (NG) Exam Testing Faculty Group Training Webinar to learn how to set up and administer your HESI NG Exams\, and prepare for your semester today! \nYou can learn more and register for this live session by clicking here.
URL:https://evolve.elsevier.com/education/event/hesi-ng-testing-faculty-group-training-webinar-3/
CATEGORIES:HESI
END:VEVENT
BEGIN:VEVENT
DTSTART;TZID=America/New_York:20240910T150000
DTEND;TZID=America/New_York:20240910T163000
DTSTAMP:20260425T054132
CREATED:20240722T102350Z
LAST-MODIFIED:20240722T102350Z
UID:46570-1725980400-1725985800@evolve.elsevier.com
SUMMARY:Sherpath Vantage Faculty Group Training Webinar
DESCRIPTION:Join our upcoming Sherpath Vantage Faculty Group Training Webinar to learn more about its exciting resources\, features\, and functionality as you prepare to use Vantage this term. \nTo learn more or register for this live session\, click here.
URL:https://evolve.elsevier.com/education/event/sherpath-vantage-faculty-group-training-webinar-3/
CATEGORIES:Sherpath,Sherpath Vantage
END:VEVENT
BEGIN:VEVENT
DTSTART;TZID=America/New_York:20240910T090000
DTEND;TZID=America/New_York:20240910T103000
DTSTAMP:20260425T054132
CREATED:20240722T103114Z
LAST-MODIFIED:20240722T103114Z
UID:46580-1725958800-1725964200@evolve.elsevier.com
SUMMARY:Sherpath for DA Faculty Group Training Webinar
DESCRIPTION:Join our upcoming Sherpath for Dental Assisting (DA) Faculty Group Training Webinar today. In this session\, we will explore the features\, functionality\, and fully integrated platform as you prepare to use Sherpath for DA with your learners this term. \nTo learn more or register for this live session\, click here.
URL:https://evolve.elsevier.com/education/event/sherpath-for-da-faculty-group-training-webinar-2/
CATEGORIES:Sherpath,Sherpath for DA
END:VEVENT
BEGIN:VEVENT
DTSTART;TZID=America/Chicago:20240910T080000
DTEND;TZID=America/Chicago:20240910T170000
DTSTAMP:20260425T054132
CREATED:20240910T175544Z
LAST-MODIFIED:20240910T175544Z
UID:47225-1725955200-1725987600@evolve.elsevier.com
SUMMARY:The Future of Nursing Education: Demystifying AI and Harnessing its Potential
DESCRIPTION:
URL:https://evolve.elsevier.com/education/event/the-future-of-nursing-education-demystifying-ai-and-harnessing-its-potential/
END:VEVENT
BEGIN:VEVENT
DTSTART;TZID=America/Chicago:20240910T080000
DTEND;TZID=America/Chicago:20240910T170000
DTSTAMP:20260425T054132
CREATED:20240910T175120Z
LAST-MODIFIED:20240910T175152Z
UID:47221-1725955200-1725987600@evolve.elsevier.com
SUMMARY:The Future of Nursing Education: Demystifying AI and Harnessing its Potential
DESCRIPTION:
URL:https://evolve.elsevier.com/education/event/the-future-of-nursing-education-demystifying-ai-and-har/
END:VEVENT
BEGIN:VEVENT
DTSTART;TZID=America/New_York:20240830T130000
DTEND;TZID=America/New_York:20240830T140000
DTSTAMP:20260425T054132
CREATED:20240722T205234Z
LAST-MODIFIED:20240722T205234Z
UID:46614-1725022800-1725026400@evolve.elsevier.com
SUMMARY:Getting Started with HESI Faculty Webinar
DESCRIPTION:Elsevier’s Fall 2024 Back to School Getting Started Series for Faculty has arrived and our experienced Nursing Education Specialists are here to help you get the semester off to a solid start with our Prescription for Success! \nThis session will cover HESI testing best practices\, how to review HESI exam results\, HESI remediation\, and include strategies for utilizing EAQ for NCLEX as part of HESI preparation and remediation. \nClick here to register for this session. You can also review additional sessions in the Fall 2024 Back to School Getting Started Series for Faculty webinar series by clicking here.
URL:https://evolve.elsevier.com/education/event/getting-started-with-hesi-faculty-webinar-2/
CATEGORIES:Getting Started Series,HESI,NES Webinars
END:VEVENT
BEGIN:VEVENT
DTSTART;TZID=America/New_York:20240830T110000
DTEND;TZID=America/New_York:20240830T120000
DTSTAMP:20260425T054132
CREATED:20240722T204715Z
LAST-MODIFIED:20240722T204715Z
UID:46610-1725015600-1725019200@evolve.elsevier.com
SUMMARY:Getting Started in the Classroom Faculty Webinar
DESCRIPTION:Elsevier’s Fall 2024 Back to School Getting Started Series for Faculty has arrived and our experienced Nursing Education Specialists are here to help you get the semester off to a solid start with our Prescription for Success! \nThe Getting Started in Your Class webinar will cover best practices for using Sherpath/Sherpath Vantage and review strategies to increase student preparation for\, and engagement in\, your class. \nClick here to register for this session. You can also review additional sessions in the Fall 2024 Back to School Getting Started Series for Faculty webinar series by clicking here.
URL:https://evolve.elsevier.com/education/event/getting-started-in-the-classroom-faculty-webinar-2/
CATEGORIES:Getting Started Series,NES Webinars,Sherpath,Sherpath Vantage
END:VEVENT
BEGIN:VEVENT
DTSTART;TZID=America/New_York:20240829T130000
DTEND;TZID=America/New_York:20240829T140000
DTSTAMP:20260425T054132
CREATED:20240721T131805Z
LAST-MODIFIED:20240721T131805Z
UID:46554-1724936400-1724940000@evolve.elsevier.com
SUMMARY:Osmosis Faculty Group Training Webinar
DESCRIPTION:Join our Osmosis Faculty Group Training Webinar to learn how to use multimodal videos to enhance your students’ learning. \nYou can learn more and register for this live session by clicking here.
URL:https://evolve.elsevier.com/education/event/osmosis-faculty-group-training-webinar/
CATEGORIES:Osmosis
END:VEVENT
BEGIN:VEVENT
DTSTART;TZID=America/New_York:20240829T110000
DTEND;TZID=America/New_York:20240829T123000
DTSTAMP:20260425T054132
CREATED:20240722T102254Z
LAST-MODIFIED:20240722T102254Z
UID:46568-1724929200-1724934600@evolve.elsevier.com
SUMMARY:Sherpath Vantage Faculty Group Training Webinar
DESCRIPTION:Join our upcoming Sherpath Vantage Faculty Group Training Webinar to learn more about its exciting resources\, features\, and functionality as you prepare to use Vantage this term. \nTo learn more or register for this live session\, click here.
URL:https://evolve.elsevier.com/education/event/sherpath-vantage-faculty-group-training-webinar-2/
CATEGORIES:Sherpath,Sherpath Vantage
END:VEVENT
BEGIN:VEVENT
DTSTART;TZID=America/New_York:20240828T150000
DTEND;TZID=America/New_York:20240828T163000
DTSTAMP:20260425T054132
CREATED:20240721T133121Z
LAST-MODIFIED:20240721T133121Z
UID:46562-1724857200-1724862600@evolve.elsevier.com
SUMMARY:Shadow Health Faculty Group Training Webinar
DESCRIPTION:Join our upcoming Shadow Health Faculty Group Training Webinar today. In this session\, we will review the basic functionality and features to help you prepare to use our high-fidelity virtual simulations with your learners. \nTo learn more or register for this live session\, click here.
URL:https://evolve.elsevier.com/education/event/shadow-health-faculty-group-training-webinar-2/
CATEGORIES:Shadow Health
END:VEVENT
BEGIN:VEVENT
DTSTART;TZID=America/New_York:20240828T110000
DTEND;TZID=America/New_York:20240828T123000
DTSTAMP:20260425T054132
CREATED:20240722T103003Z
LAST-MODIFIED:20240722T103003Z
UID:46578-1724842800-1724848200@evolve.elsevier.com
SUMMARY:Sherpath for DA Faculty Group Training Webinar
DESCRIPTION:Join our upcoming Sherpath for Dental Assisting (DA) Faculty Group Training Webinar today. In this session\, we will explore the features\, functionality\, and fully integrated platform as you prepare to use Sherpath for DA with your learners this term. \nTo learn more or register for this live session\, click here.
URL:https://evolve.elsevier.com/education/event/sherpath-for-da-faculty-group-training-webinar/
CATEGORIES:Sherpath,Sherpath for DA
END:VEVENT
BEGIN:VEVENT
DTSTART;TZID=America/New_York:20240823T130000
DTEND;TZID=America/New_York:20240823T140000
DTSTAMP:20260425T054132
CREATED:20240722T204131Z
LAST-MODIFIED:20240722T204618Z
UID:46604-1724418000-1724421600@evolve.elsevier.com
SUMMARY:Getting Started in the Classroom Faculty Webinar
DESCRIPTION:Elsevier’s Fall 2024 Back to School Getting Started Series for Faculty has arrived and our experienced Nursing Education Specialists are here to help you get the semester off to a solid start with our Prescription for Success! \nThe Getting Started in Your Class webinar will cover best practices for using Sherpath/Sherpath Vantage and review strategies to increase student preparation for\, and engagement in\, your class. \nClick here to register for this session. You can also review additional sessions in the Fall 2024 Back to School Getting Started Series for Faculty webinar series by clicking here.
URL:https://evolve.elsevier.com/education/event/getting-started-in-the-classroom-faculty-webinar/
CATEGORIES:Getting Started Series,NES Webinars,Sherpath,Sherpath Vantage
END:VEVENT
BEGIN:VEVENT
DTSTART;TZID=America/New_York:20240819T140000
DTEND;TZID=America/New_York:20240819T150000
DTSTAMP:20260425T054132
CREATED:20240722T205100Z
LAST-MODIFIED:20240722T205100Z
UID:46612-1724076000-1724079600@evolve.elsevier.com
SUMMARY:Getting Started with HESI Faculty Webinar
DESCRIPTION:Elsevier’s Fall 2024 Back to School Getting Started Series for Faculty has arrived and our experienced Nursing Education Specialists are here to help you get the semester off to a solid start with our Prescription for Success! \nThis session will cover HESI testing best practices\, how to review HESI exam results\, HESI remediation\, and include strategies for utilizing EAQ for NCLEX as part of HESI preparation and remediation. \nClick here to register for this session. You can also review additional sessions in the Fall 2024 Back to School Getting Started Series for Faculty webinar series by clicking here.
URL:https://evolve.elsevier.com/education/event/getting-started-with-hesi-faculty-webinar/
CATEGORIES:Getting Started Series,HESI,NES Webinars
END:VEVENT
BEGIN:VEVENT
DTSTART;TZID=America/New_York:20240819T120000
DTEND;TZID=America/New_York:20240819T130000
DTSTAMP:20260425T054132
CREATED:20240722T203015Z
LAST-MODIFIED:20240722T204252Z
UID:46593-1724068800-1724072400@evolve.elsevier.com
SUMMARY:Getting Started in the Classroom Faculty Webinar
DESCRIPTION:Elsevier’s Fall 2024 Back to School Getting Started Series for Faculty has arrived and our experienced Nursing Education Specialists are here to help you get the semester off to a solid start with our Prescription for Success! \nThe Getting Started in Your Class webinar will cover best practices for using Sherpath/Sherpath Vantage and review strategies to increase student preparation for\, and engagement in\, your class. \nClick here to register for this session. You can also review additional sessions in the Fall 2024 Back to School Getting Started Series for Faculty webinar series by clicking here.
URL:https://evolve.elsevier.com/education/event/getting-started-in-the-classroom-3/
CATEGORIES:Getting Started Series,NES Webinars,Sherpath,Sherpath Vantage
END:VEVENT
END:VCALENDAR