BEGIN:VCALENDAR
VERSION:2.0
PRODID:-//Elsevier Education - ECPv6.15.18//NONSGML v1.0//EN
CALSCALE:GREGORIAN
METHOD:PUBLISH
X-ORIGINAL-URL:https://evolve.elsevier.com/education
X-WR-CALDESC:Events for Elsevier Education
REFRESH-INTERVAL;VALUE=DURATION:PT1H
X-Robots-Tag:noindex
X-PUBLISHED-TTL:PT1H
BEGIN:VTIMEZONE
TZID:America/New_York
BEGIN:DAYLIGHT
TZOFFSETFROM:-0500
TZOFFSETTO:-0400
TZNAME:EDT
DTSTART:20230312T070000
END:DAYLIGHT
BEGIN:STANDARD
TZOFFSETFROM:-0400
TZOFFSETTO:-0500
TZNAME:EST
DTSTART:20231105T060000
END:STANDARD
BEGIN:DAYLIGHT
TZOFFSETFROM:-0500
TZOFFSETTO:-0400
TZNAME:EDT
DTSTART:20240310T070000
END:DAYLIGHT
BEGIN:STANDARD
TZOFFSETFROM:-0400
TZOFFSETTO:-0500
TZNAME:EST
DTSTART:20241103T060000
END:STANDARD
BEGIN:DAYLIGHT
TZOFFSETFROM:-0500
TZOFFSETTO:-0400
TZNAME:EDT
DTSTART:20250309T070000
END:DAYLIGHT
BEGIN:STANDARD
TZOFFSETFROM:-0400
TZOFFSETTO:-0500
TZNAME:EST
DTSTART:20251102T060000
END:STANDARD
END:VTIMEZONE
BEGIN:VEVENT
DTSTART;TZID=America/New_York:20240125T130000
DTEND;TZID=America/New_York:20240125T143000
DTSTAMP:20260425T154743
CREATED:20231213T165131Z
LAST-MODIFIED:20231213T165907Z
UID:41994-1706187600-1706193000@evolve.elsevier.com
SUMMARY:SLS Faculty Group Training Webinar - Jan. 25\, 2024
DESCRIPTION:Join our Simulation Learning System (SLS) Faculty Group Training Webinar to review its features\, functionality\, and resources as you prepare to integrate simulation into your curriculum and use SLS with your learners this term. \nYou can learn more and register for this live session by clicking the following link: https://survey.alchemer.com/s3/7355090/Group-Training-Webinar-Sign-Up
URL:https://evolve.elsevier.com/education/event/sls-faculty-group-training-webinar-jan-25-2024/
CATEGORIES:SLS
END:VEVENT
END:VCALENDAR