BEGIN:VCALENDAR
VERSION:2.0
PRODID:-//Elsevier Education - ECPv6.15.18//NONSGML v1.0//EN
CALSCALE:GREGORIAN
METHOD:PUBLISH
X-WR-CALNAME:Elsevier Education
X-ORIGINAL-URL:https://evolve.elsevier.com/education
X-WR-CALDESC:Events for Elsevier Education
REFRESH-INTERVAL;VALUE=DURATION:PT1H
X-Robots-Tag:noindex
X-PUBLISHED-TTL:PT1H
BEGIN:VTIMEZONE
TZID:America/New_York
BEGIN:DAYLIGHT
TZOFFSETFROM:-0500
TZOFFSETTO:-0400
TZNAME:EDT
DTSTART:20230312T070000
END:DAYLIGHT
BEGIN:STANDARD
TZOFFSETFROM:-0400
TZOFFSETTO:-0500
TZNAME:EST
DTSTART:20231105T060000
END:STANDARD
BEGIN:DAYLIGHT
TZOFFSETFROM:-0500
TZOFFSETTO:-0400
TZNAME:EDT
DTSTART:20240310T070000
END:DAYLIGHT
BEGIN:STANDARD
TZOFFSETFROM:-0400
TZOFFSETTO:-0500
TZNAME:EST
DTSTART:20241103T060000
END:STANDARD
BEGIN:DAYLIGHT
TZOFFSETFROM:-0500
TZOFFSETTO:-0400
TZNAME:EDT
DTSTART:20250309T070000
END:DAYLIGHT
BEGIN:STANDARD
TZOFFSETFROM:-0400
TZOFFSETTO:-0500
TZNAME:EST
DTSTART:20251102T060000
END:STANDARD
END:VTIMEZONE
BEGIN:VEVENT
DTSTART;TZID=America/New_York:20241118T100000
DTEND;TZID=America/New_York:20241118T113000
DTSTAMP:20260424T030846
CREATED:20241028T213015Z
LAST-MODIFIED:20241028T213015Z
UID:47786-1731924000-1731929400@evolve.elsevier.com
SUMMARY:Sherpath for RadTech Faculty Group Training Webinar
DESCRIPTION:Join our upcoming Sherpath for Radiologic Technology (RadTech) Faculty Group Training Webinar today. In this session\, we will explore the features\, functionality\, and fully integrated platform as you prepare to use Sherpath for RadTech with your learners this term. \nTo learn more or register for this live session\, click here.
URL:https://evolve.elsevier.com/education/event/sherpath-for-radtech-faculty-group-training-webinar-3/
CATEGORIES:Sherpath,Sherpath for HP,Sherpath for RadTech
END:VEVENT
BEGIN:VEVENT
DTSTART;TZID=America/New_York:20241120T110000
DTEND;TZID=America/New_York:20241120T123000
DTSTAMP:20260424T030846
CREATED:20241004T104821Z
LAST-MODIFIED:20241113T184429Z
UID:47454-1732100400-1732105800@evolve.elsevier.com
SUMMARY:Sherpath for RadTech Faculty Group Training Webinar
DESCRIPTION:Join our upcoming Sherpath for Radiologic Technology (RadTech) Faculty Group Training Webinar today. In this session\, we will explore the features\, functionality\, and fully integrated platform as you prepare to use Sherpath for RadTech with your learners this term. \nTo learn more or register for this live session\, click here.
URL:https://evolve.elsevier.com/education/event/sherpath-for-radtech-faculty-group-training-webinar-2/
CATEGORIES:Sherpath,Sherpath for HP,Sherpath for RadTech
END:VEVENT
END:VCALENDAR