BEGIN:VCALENDAR
VERSION:2.0
PRODID:-//Elsevier Education - ECPv6.15.18//NONSGML v1.0//EN
CALSCALE:GREGORIAN
METHOD:PUBLISH
X-WR-CALNAME:Elsevier Education
X-ORIGINAL-URL:https://evolve.elsevier.com/education
X-WR-CALDESC:Events for Elsevier Education
REFRESH-INTERVAL;VALUE=DURATION:PT1H
X-Robots-Tag:noindex
X-PUBLISHED-TTL:PT1H
BEGIN:VTIMEZONE
TZID:America/New_York
BEGIN:DAYLIGHT
TZOFFSETFROM:-0500
TZOFFSETTO:-0400
TZNAME:EDT
DTSTART:20220313T070000
END:DAYLIGHT
BEGIN:STANDARD
TZOFFSETFROM:-0400
TZOFFSETTO:-0500
TZNAME:EST
DTSTART:20221106T060000
END:STANDARD
BEGIN:DAYLIGHT
TZOFFSETFROM:-0500
TZOFFSETTO:-0400
TZNAME:EDT
DTSTART:20230312T070000
END:DAYLIGHT
BEGIN:STANDARD
TZOFFSETFROM:-0400
TZOFFSETTO:-0500
TZNAME:EST
DTSTART:20231105T060000
END:STANDARD
BEGIN:DAYLIGHT
TZOFFSETFROM:-0500
TZOFFSETTO:-0400
TZNAME:EDT
DTSTART:20240310T070000
END:DAYLIGHT
BEGIN:STANDARD
TZOFFSETFROM:-0400
TZOFFSETTO:-0500
TZNAME:EST
DTSTART:20241103T060000
END:STANDARD
BEGIN:DAYLIGHT
TZOFFSETFROM:-0500
TZOFFSETTO:-0400
TZNAME:EDT
DTSTART:20250309T070000
END:DAYLIGHT
BEGIN:STANDARD
TZOFFSETFROM:-0400
TZOFFSETTO:-0500
TZNAME:EST
DTSTART:20251102T060000
END:STANDARD
END:VTIMEZONE
BEGIN:VEVENT
DTSTART;TZID=America/New_York:20240117T130000
DTEND;TZID=America/New_York:20240117T143000
DTSTAMP:20260422T012136
CREATED:20231213T155353Z
LAST-MODIFIED:20231213T155443Z
UID:41954-1705496400-1705501800@evolve.elsevier.com
SUMMARY:Shadow Health Faculty Group Training Webinar - Jan. 17\, 2024
DESCRIPTION:Join our Shadow Health Faculty Group Training Webinar to prepare for your semester today. \nYou can learn more and register for this live session by clicking the following link: https://survey.alchemer.com/s3/7355090/Group-Training-Webinar-Sign-Up
URL:https://evolve.elsevier.com/education/event/shadow-health-faculty-group-training-webinar-jan-17-2024/
CATEGORIES:Shadow Health
END:VEVENT
BEGIN:VEVENT
DTSTART;TZID=America/New_York:20231213T150000
DTEND;TZID=America/New_York:20231213T163000
DTSTAMP:20260422T012136
CREATED:20230902T115732Z
LAST-MODIFIED:20230902T115732Z
UID:39832-1702479600-1702485000@evolve.elsevier.com
SUMMARY:Shadow Health Group Training Webinar-Dec. 13\, 2023
DESCRIPTION:Please join this Shadow Health Group Training Webinar to prepare for your semester today: \n\nYou can learn more and register at this link: https://survey.alchemer.com/s3/7355090/Group-Training-Webinar-Sign-Up
URL:https://evolve.elsevier.com/education/event/shadow-health-group-training-webinar-dec-13-2023/
CATEGORIES:Shadow Health
END:VEVENT
BEGIN:VEVENT
DTSTART;TZID=America/New_York:20231115T130000
DTEND;TZID=America/New_York:20231115T143000
DTSTAMP:20260422T012136
CREATED:20230902T115612Z
LAST-MODIFIED:20230902T115612Z
UID:39830-1700053200-1700058600@evolve.elsevier.com
SUMMARY:Shadow Health Group Training Webinar-Nov. 15\, 2023
DESCRIPTION:Please join this Shadow Health Group Training Webinar to prepare for your semester today: \n\nYou can learn more and register at this link: https://survey.alchemer.com/s3/7355090/Group-Training-Webinar-Sign-Up
URL:https://evolve.elsevier.com/education/event/shadow-health-group-training-webinar-nov-15-2023/
CATEGORIES:Shadow Health
END:VEVENT
BEGIN:VEVENT
DTSTART;TZID=America/New_York:20231012T120000
DTEND;TZID=America/New_York:20231012T130000
DTSTAMP:20260422T012136
CREATED:20230912T195625Z
LAST-MODIFIED:20230912T195625Z
UID:39986-1697112000-1697115600@evolve.elsevier.com
SUMMARY:Shadow Health for Undergraduate Nursing Live Webinar
DESCRIPTION:As nurse educators\, you’re working hard to prepare your students to excel in a complex and challenging healthcare environment. We invite you to learn about ways to improve your students’ communication skills\, develop clinical judgment\, and improve their efficiency with high-fidelity screen-based simulations. \nJoin Elsevier’s nursing experts Dr. Cheryl Wilson and Dr. Brittny Chabalowski to learn more about how you can put the patient at the forefront of the learning experience with Shadow Health’s high-fidelity screen-based simulations. You will meet several of our virtual patients and learn how our patented conversation engine builds therapeutic communication and clinical judgment skills.
URL:https://evolve.elsevier.com/education/event/shadow-health-for-undergraduate-nursing-live-webinar/
CATEGORIES:Shadow Health
END:VEVENT
BEGIN:VEVENT
DTSTART;TZID=America/New_York:20231011T150000
DTEND;TZID=America/New_York:20231011T160000
DTSTAMP:20260422T012136
CREATED:20230912T195502Z
LAST-MODIFIED:20230912T195502Z
UID:39984-1697036400-1697040000@evolve.elsevier.com
SUMMARY:Shadow Health for Graduate Nursing Live Webinar
DESCRIPTION:As nurse educators\, you’re working hard to prepare your students to excel in a complex and challenging healthcare environment. We invite you to learn about ways to improve your students’ communication skills\, develop diagnostic reasoning\, and improve their efficiency with high-fidelity screen-based simulations. \nJoin Elsevier’s nursing experts Dr. Cheryl Wilson and Dr. Amanda Davis to learn more about how Shadow Health’s high-fidelity screen-based simulations put the patient at the forefront of the learning experience. You will meet several of our virtual patients and learn how our patented conversation engine builds therapeutic communication and diagnostic reasoning skills.
URL:https://evolve.elsevier.com/education/event/shadow-health-for-graduate-nursing-live-webinar/
CATEGORIES:Shadow Health
END:VEVENT
BEGIN:VEVENT
DTSTART;TZID=America/New_York:20231011T110000
DTEND;TZID=America/New_York:20231011T123000
DTSTAMP:20260422T012136
CREATED:20230902T115353Z
LAST-MODIFIED:20230902T115353Z
UID:39828-1697022000-1697027400@evolve.elsevier.com
SUMMARY:Shadow Health Group Training Webinar-Oct. 11\, 2023
DESCRIPTION:Please join this Shadow Health Group Training Webinar to prepare for your semester today: \n\nYou can learn more and register at this link: https://survey.alchemer.com/s3/7355090/Group-Training-Webinar-Sign-Up
URL:https://evolve.elsevier.com/education/event/shadow-health-group-training-webinar-oct-11-2023/
CATEGORIES:Shadow Health
END:VEVENT
BEGIN:VEVENT
DTSTART;TZID=America/New_York:20230914T110000
DTEND;TZID=America/New_York:20230914T123000
DTSTAMP:20260422T012136
CREATED:20230709T182758Z
LAST-MODIFIED:20230709T182758Z
UID:39066-1694689200-1694694600@evolve.elsevier.com
SUMMARY:Shadow Health Group Training Webinar-Sept 14\, 2023
DESCRIPTION:Please join this Shadow Health Group Training Webinar to prepare for your semester today: \n\nYou can learn more and register at this link: https://survey.alchemer.com/s3/7355090/Group-Training-Webinar-Sign-Up
URL:https://evolve.elsevier.com/education/event/shadow-health-group-training-webinar-sept-14-2023/
CATEGORIES:Shadow Health
END:VEVENT
BEGIN:VEVENT
DTSTART;TZID=America/New_York:20230906T140000
DTEND;TZID=America/New_York:20230906T153000
DTSTAMP:20260422T012136
CREATED:20230709T182636Z
LAST-MODIFIED:20230709T182636Z
UID:39064-1694008800-1694014200@evolve.elsevier.com
SUMMARY:Shadow Health Group Training Webinar-Sept 6\, 2023
DESCRIPTION:Please join this Shadow Health Group Training Webinar to prepare for your semester today: \n\nYou can learn more and register at this link: https://survey.alchemer.com/s3/7355090/Group-Training-Webinar-Sign-Up
URL:https://evolve.elsevier.com/education/event/shadow-health-group-training-webinar-sept-6-2023/
CATEGORIES:Shadow Health
END:VEVENT
BEGIN:VEVENT
DTSTART;TZID=America/New_York:20230831T130000
DTEND;TZID=America/New_York:20230831T143000
DTSTAMP:20260422T012136
CREATED:20230709T182446Z
LAST-MODIFIED:20230709T182446Z
UID:39062-1693486800-1693492200@evolve.elsevier.com
SUMMARY:Shadow Health Group Training Webinar-August 31\, 2023
DESCRIPTION:Please join this Shadow Health Group Training Webinar to prepare for your semester today: \n\nYou can learn more and register at this link: https://survey.alchemer.com/s3/7355090/Group-Training-Webinar-Sign-Up
URL:https://evolve.elsevier.com/education/event/shadow-health-group-training-webinar-august-31-2023/
CATEGORIES:Shadow Health
END:VEVENT
BEGIN:VEVENT
DTSTART;TZID=America/New_York:20230824T130000
DTEND;TZID=America/New_York:20230824T143000
DTSTAMP:20260422T012136
CREATED:20230709T182320Z
LAST-MODIFIED:20230709T182320Z
UID:39060-1692882000-1692887400@evolve.elsevier.com
SUMMARY:Shadow Health Group Training Webinar-August 24\, 2023
DESCRIPTION:Please join this Shadow Health Group Training Webinar to prepare for your semester today: \n\nYou can learn more and register at this link: https://survey.alchemer.com/s3/7355090/Group-Training-Webinar-Sign-Up
URL:https://evolve.elsevier.com/education/event/shadow-health-group-training-webinar-august-24-2023/
CATEGORIES:Shadow Health
END:VEVENT
BEGIN:VEVENT
DTSTART;TZID=America/New_York:20230817T100000
DTEND;TZID=America/New_York:20230817T113000
DTSTAMP:20260422T012136
CREATED:20230709T182123Z
LAST-MODIFIED:20230709T182123Z
UID:39058-1692266400-1692271800@evolve.elsevier.com
SUMMARY:Shadow Health Group Training Webinar-August 17\, 2023
DESCRIPTION:Please join this Shadow Health Group Training Webinar to prepare for your semester today: \n\nYou can learn more and register at this link: https://survey.alchemer.com/s3/7355090/Group-Training-Webinar-Sign-Up
URL:https://evolve.elsevier.com/education/event/shadow-health-group-training-webinar-august-17-2023/
CATEGORIES:Shadow Health
END:VEVENT
BEGIN:VEVENT
DTSTART;TZID=America/New_York:20230809T150000
DTEND;TZID=America/New_York:20230809T163000
DTSTAMP:20260422T012136
CREATED:20230709T181848Z
LAST-MODIFIED:20230709T181848Z
UID:39056-1691593200-1691598600@evolve.elsevier.com
SUMMARY:Shadow Health Group Training Webinar-August 9\, 2023
DESCRIPTION:Please join this Shadow Health Group Training Webinar to prepare for your semester today: \n\nYou can learn more and register at this link: https://survey.alchemer.com/s3/7355090/Group-Training-Webinar-Sign-Up
URL:https://evolve.elsevier.com/education/event/shadow-health-group-training-webinar-august-9-2023/
CATEGORIES:Shadow Health
END:VEVENT
BEGIN:VEVENT
DTSTART;TZID=America/New_York:20230726T150000
DTEND;TZID=America/New_York:20230726T163000
DTSTAMP:20260422T012136
CREATED:20230709T181712Z
LAST-MODIFIED:20230709T181712Z
UID:39054-1690383600-1690389000@evolve.elsevier.com
SUMMARY:Shadow Health Group Training Webinar-July 26\, 2023
DESCRIPTION:Please join this Shadow Health Group Training Webinar to prepare for your semester today: \n\nYou can learn more and register at this link: https://survey.alchemer.com/s3/7355090/Group-Training-Webinar-Sign-Up
URL:https://evolve.elsevier.com/education/event/shadow-health-group-training-webinar-july-26-2023/
CATEGORIES:Shadow Health
END:VEVENT
BEGIN:VEVENT
DTSTART;TZID=America/New_York:20230712T150000
DTEND;TZID=America/New_York:20230712T163000
DTSTAMP:20260422T012136
CREATED:20230709T181425Z
LAST-MODIFIED:20230709T181425Z
UID:39052-1689174000-1689179400@evolve.elsevier.com
SUMMARY:Shadow Health Group Training Webinar-July 12\, 2023
DESCRIPTION:Please join this Shadow Health Group Training Webinar to prepare for your semester today: \n\nYou can learn more and register at this link: https://survey.alchemer.com/s3/7355090/Group-Training-Webinar-Sign-Up
URL:https://evolve.elsevier.com/education/event/shadow-health-group-training-webinar-july-12-2023/
CATEGORIES:Shadow Health
END:VEVENT
END:VCALENDAR