BEGIN:VCALENDAR
VERSION:2.0
PRODID:-//Elsevier Education - ECPv6.15.18//NONSGML v1.0//EN
CALSCALE:GREGORIAN
METHOD:PUBLISH
X-WR-CALNAME:Elsevier Education
X-ORIGINAL-URL:https://evolve.elsevier.com/education
X-WR-CALDESC:Events for Elsevier Education
REFRESH-INTERVAL;VALUE=DURATION:PT1H
X-Robots-Tag:noindex
X-PUBLISHED-TTL:PT1H
BEGIN:VTIMEZONE
TZID:America/New_York
BEGIN:DAYLIGHT
TZOFFSETFROM:-0500
TZOFFSETTO:-0400
TZNAME:EDT
DTSTART:20230312T070000
END:DAYLIGHT
BEGIN:STANDARD
TZOFFSETFROM:-0400
TZOFFSETTO:-0500
TZNAME:EST
DTSTART:20231105T060000
END:STANDARD
BEGIN:DAYLIGHT
TZOFFSETFROM:-0500
TZOFFSETTO:-0400
TZNAME:EDT
DTSTART:20240310T070000
END:DAYLIGHT
BEGIN:STANDARD
TZOFFSETFROM:-0400
TZOFFSETTO:-0500
TZNAME:EST
DTSTART:20241103T060000
END:STANDARD
BEGIN:DAYLIGHT
TZOFFSETFROM:-0500
TZOFFSETTO:-0400
TZNAME:EDT
DTSTART:20250309T070000
END:DAYLIGHT
BEGIN:STANDARD
TZOFFSETFROM:-0400
TZOFFSETTO:-0500
TZNAME:EST
DTSTART:20251102T060000
END:STANDARD
END:VTIMEZONE
BEGIN:VEVENT
DTSTART;TZID=America/New_York:20240415T110000
DTEND;TZID=America/New_York:20240415T123000
DTSTAMP:20260424T043625
CREATED:20231213T160945Z
LAST-MODIFIED:20240408T181334Z
UID:41967-1713178800-1713184200@evolve.elsevier.com
SUMMARY:Shadow Health Faculty Group Training Webinar - April 15\, 2024
DESCRIPTION:Join our Shadow Health Faculty Group Training Webinar to prepare for your semester today. \nTo learn more or register for this live session\, click the following link: https://survey.alchemer.com/s3/7355090/Group-Training-Webinar-Sign-Up
URL:https://evolve.elsevier.com/education/event/shadow-health-faculty-group-training-webinar-april-15-2024/
CATEGORIES:Shadow Health
END:VEVENT
END:VCALENDAR