BEGIN:VCALENDAR
VERSION:2.0
PRODID:-//Elsevier Education - ECPv6.15.18//NONSGML v1.0//EN
CALSCALE:GREGORIAN
METHOD:PUBLISH
X-WR-CALNAME:Elsevier Education
X-ORIGINAL-URL:https://evolve.elsevier.com/education
X-WR-CALDESC:Events for Elsevier Education
REFRESH-INTERVAL;VALUE=DURATION:PT1H
X-Robots-Tag:noindex
X-PUBLISHED-TTL:PT1H
BEGIN:VTIMEZONE
TZID:America/New_York
BEGIN:DAYLIGHT
TZOFFSETFROM:-0500
TZOFFSETTO:-0400
TZNAME:EDT
DTSTART:20230312T070000
END:DAYLIGHT
BEGIN:STANDARD
TZOFFSETFROM:-0400
TZOFFSETTO:-0500
TZNAME:EST
DTSTART:20231105T060000
END:STANDARD
BEGIN:DAYLIGHT
TZOFFSETFROM:-0500
TZOFFSETTO:-0400
TZNAME:EDT
DTSTART:20240310T070000
END:DAYLIGHT
BEGIN:STANDARD
TZOFFSETFROM:-0400
TZOFFSETTO:-0500
TZNAME:EST
DTSTART:20241103T060000
END:STANDARD
BEGIN:DAYLIGHT
TZOFFSETFROM:-0500
TZOFFSETTO:-0400
TZNAME:EDT
DTSTART:20250309T070000
END:DAYLIGHT
BEGIN:STANDARD
TZOFFSETFROM:-0400
TZOFFSETTO:-0500
TZNAME:EST
DTSTART:20251102T060000
END:STANDARD
END:VTIMEZONE
BEGIN:VEVENT
DTSTART;TZID=America/New_York:20241008T103000
DTEND;TZID=America/New_York:20241008T120000
DTSTAMP:20260421T071351
CREATED:20241004T110905Z
LAST-MODIFIED:20241004T110905Z
UID:47472-1728383400-1728388800@evolve.elsevier.com
SUMMARY:NCPD Webinar Series: Building Confidence and Competence
DESCRIPTION:Elsevier’s Excellence in Nursing Webinar Series has arrived for the Fall 2024 season and our experienced Nursing Education Specialists are here to equip you with the tools you need to make a lasting impact on your students and curriculum. \nJoin us for an insightful session where we will explore current challenges in the educational journey and transition to new graduate nurse\, discuss innovative teaching methods and evaluation of nursing students toward meeting competency standards and discuss the role of mentorship and support for faculty. \nClick here to register now and secure your spot to join us in discussing how to build confidence as a new nurse. You can also view additional sessions in the Fall 2024 Excellence in Nursing Webinar Series by clicking here.
URL:https://evolve.elsevier.com/education/event/ncpd-webinar-series-building-confidence-and-competence/
CATEGORIES:Fall NCPD Series,NES Webinars
END:VEVENT
END:VCALENDAR