BEGIN:VCALENDAR
VERSION:2.0
PRODID:-//Elsevier Education - ECPv6.15.18//NONSGML v1.0//EN
CALSCALE:GREGORIAN
METHOD:PUBLISH
X-WR-CALNAME:Elsevier Education
X-ORIGINAL-URL:https://evolve.elsevier.com/education
X-WR-CALDESC:Events for Elsevier Education
REFRESH-INTERVAL;VALUE=DURATION:PT1H
X-Robots-Tag:noindex
X-PUBLISHED-TTL:PT1H
BEGIN:VTIMEZONE
TZID:America/New_York
BEGIN:DAYLIGHT
TZOFFSETFROM:-0500
TZOFFSETTO:-0400
TZNAME:EDT
DTSTART:20230312T070000
END:DAYLIGHT
BEGIN:STANDARD
TZOFFSETFROM:-0400
TZOFFSETTO:-0500
TZNAME:EST
DTSTART:20231105T060000
END:STANDARD
BEGIN:DAYLIGHT
TZOFFSETFROM:-0500
TZOFFSETTO:-0400
TZNAME:EDT
DTSTART:20240310T070000
END:DAYLIGHT
BEGIN:STANDARD
TZOFFSETFROM:-0400
TZOFFSETTO:-0500
TZNAME:EST
DTSTART:20241103T060000
END:STANDARD
BEGIN:DAYLIGHT
TZOFFSETFROM:-0500
TZOFFSETTO:-0400
TZNAME:EDT
DTSTART:20250309T070000
END:DAYLIGHT
BEGIN:STANDARD
TZOFFSETFROM:-0400
TZOFFSETTO:-0500
TZNAME:EST
DTSTART:20251102T060000
END:STANDARD
END:VTIMEZONE
BEGIN:VEVENT
DTSTART;TZID=America/New_York:20240819T140000
DTEND;TZID=America/New_York:20240819T150000
DTSTAMP:20260420T235431
CREATED:20240722T205100Z
LAST-MODIFIED:20240722T205100Z
UID:46612-1724076000-1724079600@evolve.elsevier.com
SUMMARY:Getting Started with HESI Faculty Webinar
DESCRIPTION:Elsevier’s Fall 2024 Back to School Getting Started Series for Faculty has arrived and our experienced Nursing Education Specialists are here to help you get the semester off to a solid start with our Prescription for Success! \nThis session will cover HESI testing best practices\, how to review HESI exam results\, HESI remediation\, and include strategies for utilizing EAQ for NCLEX as part of HESI preparation and remediation. \nClick here to register for this session. You can also review additional sessions in the Fall 2024 Back to School Getting Started Series for Faculty webinar series by clicking here.
URL:https://evolve.elsevier.com/education/event/getting-started-with-hesi-faculty-webinar/
CATEGORIES:Getting Started Series,HESI,NES Webinars
END:VEVENT
END:VCALENDAR