BEGIN:VCALENDAR
VERSION:2.0
PRODID:-//Elsevier Education - ECPv6.15.18//NONSGML v1.0//EN
CALSCALE:GREGORIAN
METHOD:PUBLISH
X-WR-CALNAME:Elsevier Education
X-ORIGINAL-URL:https://evolve.elsevier.com/education
X-WR-CALDESC:Events for Elsevier Education
REFRESH-INTERVAL;VALUE=DURATION:PT1H
X-Robots-Tag:noindex
X-PUBLISHED-TTL:PT1H
BEGIN:VTIMEZONE
TZID:America/New_York
BEGIN:DAYLIGHT
TZOFFSETFROM:-0500
TZOFFSETTO:-0400
TZNAME:EDT
DTSTART:20230312T070000
END:DAYLIGHT
BEGIN:STANDARD
TZOFFSETFROM:-0400
TZOFFSETTO:-0500
TZNAME:EST
DTSTART:20231105T060000
END:STANDARD
BEGIN:DAYLIGHT
TZOFFSETFROM:-0500
TZOFFSETTO:-0400
TZNAME:EDT
DTSTART:20240310T070000
END:DAYLIGHT
BEGIN:STANDARD
TZOFFSETFROM:-0400
TZOFFSETTO:-0500
TZNAME:EST
DTSTART:20241103T060000
END:STANDARD
BEGIN:DAYLIGHT
TZOFFSETFROM:-0500
TZOFFSETTO:-0400
TZNAME:EDT
DTSTART:20250309T070000
END:DAYLIGHT
BEGIN:STANDARD
TZOFFSETFROM:-0400
TZOFFSETTO:-0500
TZNAME:EST
DTSTART:20251102T060000
END:STANDARD
END:VTIMEZONE
BEGIN:VEVENT
DTSTART;TZID=America/New_York:20240612T110000
DTEND;TZID=America/New_York:20240612T120000
DTSTAMP:20260424T065456
CREATED:20240408T180802Z
LAST-MODIFIED:20240408T180802Z
UID:44093-1718190000-1718193600@evolve.elsevier.com
SUMMARY:HESI NG Prep Suite Faculty Group Training Webinar - June 15\, 2024
DESCRIPTION:Join our HESI Next Generation (NG) Prep Suite Faculty Group Training Webinar to prepare for your semester today. \nYou can learn more and register for this live session by clicking the following link: https://survey.alchemer.com/s3/7355090/Group-Training-Webinar-Sign-Up
URL:https://evolve.elsevier.com/education/event/hesi-ng-prep-suite-faculty-group-training-webinar-june-15-2024/
CATEGORIES:HESI
END:VEVENT
BEGIN:VEVENT
DTSTART;TZID=America/New_York:20240612T150000
DTEND;TZID=America/New_York:20240612T160000
DTSTAMP:20260424T065456
CREATED:20240408T175756Z
LAST-MODIFIED:20240408T180121Z
UID:44083-1718204400-1718208000@evolve.elsevier.com
SUMMARY:HESI NG Exam Testing Faculty Group Training Webinar - June 12\, 2024
DESCRIPTION:Join our HESI Next Generation (NG) Exam Testing Faculty Group Training Webinar to learn how to set up and administer your HESI NG Exams\, and prepare for your semester today. \nYou can learn more and register for this live session by clicking the following link: https://survey.alchemer.com/s3/7355090/Group-Training-Webinar-Sign-Up
URL:https://evolve.elsevier.com/education/event/hesi-ng-exam-testing-faculty-group-training-webinar-june-12-2023/
CATEGORIES:HESI
END:VEVENT
END:VCALENDAR