BEGIN:VCALENDAR
VERSION:2.0
PRODID:-//Elsevier Education - ECPv6.15.18//NONSGML v1.0//EN
CALSCALE:GREGORIAN
METHOD:PUBLISH
X-WR-CALNAME:Elsevier Education
X-ORIGINAL-URL:https://evolve.elsevier.com/education
X-WR-CALDESC:Events for Elsevier Education
REFRESH-INTERVAL;VALUE=DURATION:PT1H
X-Robots-Tag:noindex
X-PUBLISHED-TTL:PT1H
BEGIN:VTIMEZONE
TZID:America/New_York
BEGIN:DAYLIGHT
TZOFFSETFROM:-0500
TZOFFSETTO:-0400
TZNAME:EDT
DTSTART:20220313T070000
END:DAYLIGHT
BEGIN:STANDARD
TZOFFSETFROM:-0400
TZOFFSETTO:-0500
TZNAME:EST
DTSTART:20221106T060000
END:STANDARD
BEGIN:DAYLIGHT
TZOFFSETFROM:-0500
TZOFFSETTO:-0400
TZNAME:EDT
DTSTART:20230312T070000
END:DAYLIGHT
BEGIN:STANDARD
TZOFFSETFROM:-0400
TZOFFSETTO:-0500
TZNAME:EST
DTSTART:20231105T060000
END:STANDARD
BEGIN:DAYLIGHT
TZOFFSETFROM:-0500
TZOFFSETTO:-0400
TZNAME:EDT
DTSTART:20240310T070000
END:DAYLIGHT
BEGIN:STANDARD
TZOFFSETFROM:-0400
TZOFFSETTO:-0500
TZNAME:EST
DTSTART:20241103T060000
END:STANDARD
END:VTIMEZONE
BEGIN:VEVENT
DTSTART;TZID=America/New_York:20230901T130000
DTEND;TZID=America/New_York:20230901T143000
DTSTAMP:20260425T130921
CREATED:20230709T175500Z
LAST-MODIFIED:20230709T175500Z
UID:39044-1693573200-1693578600@evolve.elsevier.com
SUMMARY:HESI Group Training Webinar-Sept 1\, 2023
DESCRIPTION:Please join this HESI Group Training Webinar to prepare for your semester today: \n\nYou can learn more and register at this link: https://survey.alchemer.com/s3/7355090/Group-Training-Webinar-Sign-Up
URL:https://evolve.elsevier.com/education/event/hesi-group-training-webinar-sept-1-2023/
CATEGORIES:HESI
END:VEVENT
BEGIN:VEVENT
DTSTART;TZID=America/New_York:20230908T090000
DTEND;TZID=America/New_York:20230908T103000
DTSTAMP:20260425T130921
CREATED:20230709T180847Z
LAST-MODIFIED:20230709T180847Z
UID:39048-1694163600-1694169000@evolve.elsevier.com
SUMMARY:HESI Group Training Webinar-Sept 8\, 2023
DESCRIPTION:Please join this HESI Group Training Webinar to prepare for your semester today: \n\nYou can learn more and register at this link: https://survey.alchemer.com/s3/7355090/Group-Training-Webinar-Sign-Up
URL:https://evolve.elsevier.com/education/event/hesi-group-training-webinar-sept-8-2023/
CATEGORIES:HESI
END:VEVENT
BEGIN:VEVENT
DTSTART;TZID=America/New_York:20230915T130000
DTEND;TZID=America/New_York:20230915T143000
DTSTAMP:20260425T130921
CREATED:20230709T181041Z
LAST-MODIFIED:20230709T181041Z
UID:39050-1694782800-1694788200@evolve.elsevier.com
SUMMARY:HESI Group Training Webinar-Sept 15\, 2023
DESCRIPTION:Please join this HESI Group Training Webinar to prepare for your semester today: \n\nYou can learn more and register at this link: https://survey.alchemer.com/s3/7355090/Group-Training-Webinar-Sign-Up
URL:https://evolve.elsevier.com/education/event/hesi-group-training-webinar-sept-15-2023/
CATEGORIES:HESI
END:VEVENT
END:VCALENDAR