BEGIN:VCALENDAR
VERSION:2.0
PRODID:-//Elsevier Education - ECPv6.15.18//NONSGML v1.0//EN
CALSCALE:GREGORIAN
METHOD:PUBLISH
X-WR-CALNAME:Elsevier Education
X-ORIGINAL-URL:https://evolve.elsevier.com/education
X-WR-CALDESC:Events for Elsevier Education
REFRESH-INTERVAL;VALUE=DURATION:PT1H
X-Robots-Tag:noindex
X-PUBLISHED-TTL:PT1H
BEGIN:VTIMEZONE
TZID:America/New_York
BEGIN:DAYLIGHT
TZOFFSETFROM:-0500
TZOFFSETTO:-0400
TZNAME:EDT
DTSTART:20240310T070000
END:DAYLIGHT
BEGIN:STANDARD
TZOFFSETFROM:-0400
TZOFFSETTO:-0500
TZNAME:EST
DTSTART:20241103T060000
END:STANDARD
BEGIN:DAYLIGHT
TZOFFSETFROM:-0500
TZOFFSETTO:-0400
TZNAME:EDT
DTSTART:20250309T070000
END:DAYLIGHT
BEGIN:STANDARD
TZOFFSETFROM:-0400
TZOFFSETTO:-0500
TZNAME:EST
DTSTART:20251102T060000
END:STANDARD
BEGIN:DAYLIGHT
TZOFFSETFROM:-0500
TZOFFSETTO:-0400
TZNAME:EDT
DTSTART:20260308T070000
END:DAYLIGHT
BEGIN:STANDARD
TZOFFSETFROM:-0400
TZOFFSETTO:-0500
TZNAME:EST
DTSTART:20261101T060000
END:STANDARD
END:VTIMEZONE
BEGIN:VEVENT
DTSTART;TZID=America/New_York:20250311T130000
DTEND;TZID=America/New_York:20250311T143000
DTSTAMP:20260423T025322
CREATED:20250310T231322Z
LAST-MODIFIED:20250310T231322Z
UID:48608-1741698000-1741703400@evolve.elsevier.com
SUMMARY:Sherpath Faculty Group Training Webinar
DESCRIPTION:Join our upcoming Sherpath Faculty Group Training Webinar today. In this session\, we will explore the features\, functionality\, and fully integrated platform as you prepare to use Sherpath with your learners this term. \nTo learn more or register for this live session\, click here.
URL:https://evolve.elsevier.com/education/event/sherpath-faculty-group-training-webinar-10/
CATEGORIES:Sherpath
END:VEVENT
BEGIN:VEVENT
DTSTART;TZID=America/New_York:20250311T150000
DTEND;TZID=America/New_York:20250311T163000
DTSTAMP:20260423T025322
CREATED:20250121T210455Z
LAST-MODIFIED:20250121T210455Z
UID:48391-1741705200-1741710600@evolve.elsevier.com
SUMMARY:Sherpath Vantage Faculty Group Training Webinar
DESCRIPTION:Join our upcoming Sherpath Vantage Faculty Group Training Webinar to learn more about its exciting resources\, features\, and functionality as you prepare to use Vantage this term. \nTo learn more or register for this live session\, click here.
URL:https://evolve.elsevier.com/education/event/sherpath-vantage-faculty-group-training-webinar-7/
CATEGORIES:Sherpath Vantage
END:VEVENT
END:VCALENDAR