BEGIN:VCALENDAR
VERSION:2.0
PRODID:-//Elsevier Education - ECPv6.15.18//NONSGML v1.0//EN
CALSCALE:GREGORIAN
METHOD:PUBLISH
X-ORIGINAL-URL:https://evolve.elsevier.com/education
X-WR-CALDESC:Events for Elsevier Education
REFRESH-INTERVAL;VALUE=DURATION:PT1H
X-Robots-Tag:noindex
X-PUBLISHED-TTL:PT1H
BEGIN:VTIMEZONE
TZID:America/New_York
BEGIN:DAYLIGHT
TZOFFSETFROM:-0500
TZOFFSETTO:-0400
TZNAME:EDT
DTSTART:20240310T070000
END:DAYLIGHT
BEGIN:STANDARD
TZOFFSETFROM:-0400
TZOFFSETTO:-0500
TZNAME:EST
DTSTART:20241103T060000
END:STANDARD
BEGIN:DAYLIGHT
TZOFFSETFROM:-0500
TZOFFSETTO:-0400
TZNAME:EDT
DTSTART:20250309T070000
END:DAYLIGHT
BEGIN:STANDARD
TZOFFSETFROM:-0400
TZOFFSETTO:-0500
TZNAME:EST
DTSTART:20251102T060000
END:STANDARD
BEGIN:DAYLIGHT
TZOFFSETFROM:-0500
TZOFFSETTO:-0400
TZNAME:EDT
DTSTART:20260308T070000
END:DAYLIGHT
BEGIN:STANDARD
TZOFFSETFROM:-0400
TZOFFSETTO:-0500
TZNAME:EST
DTSTART:20261101T060000
END:STANDARD
END:VTIMEZONE
BEGIN:VEVENT
DTSTART;TZID=America/New_York:20250123T110000
DTEND;TZID=America/New_York:20250123T123000
DTSTAMP:20260424T053016
CREATED:20241206T154204Z
LAST-MODIFIED:20241206T154204Z
UID:47993-1737630000-1737635400@evolve.elsevier.com
SUMMARY:Sherpath for DA Faculty Group Training Webinar
DESCRIPTION:Join our upcoming Sherpath for Dental Assisting (DA) Faculty Group Training Webinar today. In this session\, we will explore the features\, functionality\, and fully integrated platform as you prepare to use Sherpath for DA with your learners this term. \nTo learn more or register for this live session\, click here.
URL:https://evolve.elsevier.com/education/event/sherpath-for-da-faculty-group-training-webinar-7/
CATEGORIES:Sherpath for DA,Sherpath for HP
END:VEVENT
BEGIN:VEVENT
DTSTART;TZID=America/New_York:20250123T130000
DTEND;TZID=America/New_York:20250123T143000
DTSTAMP:20260424T053016
CREATED:20250107T212357Z
LAST-MODIFIED:20250107T212647Z
UID:48349-1737637200-1737642600@evolve.elsevier.com
SUMMARY:Sherpath: Getting Started in Your Classroom
DESCRIPTION:In Getting Started in your Class\, our Nurse Educators will cover best practices for using Sherpath/Sherpath Vantage and give strategies to increase student preparation for\, and engagement in\, your class
URL:https://evolve.elsevier.com/education/event/sherpath-getting-started-in-your-classroom/
CATEGORIES:Sherpath,Sherpath Vantage
END:VEVENT
BEGIN:VEVENT
DTSTART;TZID=America/New_York:20250123T150000
DTEND;TZID=America/New_York:20250123T163000
DTSTAMP:20260424T053016
CREATED:20241205T160212Z
LAST-MODIFIED:20241205T160212Z
UID:47982-1737644400-1737649800@evolve.elsevier.com
SUMMARY:Sherpath Faculty Group Training Webinar
DESCRIPTION:Join our upcoming Sherpath Faculty Group Training Webinar today. In this session\, we will explore the features\, functionality\, and fully integrated platform as you prepare to use Sherpath with your learners this term. \nTo learn more or register for this live session\, click here.
URL:https://evolve.elsevier.com/education/event/sherpath-faculty-group-training-webinar-6/
CATEGORIES:Sherpath
END:VEVENT
BEGIN:VEVENT
DTSTART;TZID=America/New_York:20250123T150000
DTEND;TZID=America/New_York:20250123T163000
DTSTAMP:20260424T053016
CREATED:20241206T162435Z
LAST-MODIFIED:20241206T162435Z
UID:48024-1737644400-1737649800@evolve.elsevier.com
SUMMARY:Sherpath Faculty Group Training Webinar
DESCRIPTION:Join our upcoming Sherpath Faculty Group Training Webinar today. In this session\, we will explore the features\, functionality\, and fully integrated platform as you prepare to use Sherpath with your learners this term. \nTo learn more or register for this live session\, click here.
URL:https://evolve.elsevier.com/education/event/sherpath-faculty-group-training-webinar-8/
CATEGORIES:Sherpath
END:VEVENT
END:VCALENDAR