BEGIN:VCALENDAR
VERSION:2.0
PRODID:-//Elsevier Education - ECPv6.15.18//NONSGML v1.0//EN
CALSCALE:GREGORIAN
METHOD:PUBLISH
X-ORIGINAL-URL:https://evolve.elsevier.com/education
X-WR-CALDESC:Events for Elsevier Education
REFRESH-INTERVAL;VALUE=DURATION:PT1H
X-Robots-Tag:noindex
X-PUBLISHED-TTL:PT1H
BEGIN:VTIMEZONE
TZID:America/New_York
BEGIN:DAYLIGHT
TZOFFSETFROM:-0500
TZOFFSETTO:-0400
TZNAME:EDT
DTSTART:20240310T070000
END:DAYLIGHT
BEGIN:STANDARD
TZOFFSETFROM:-0400
TZOFFSETTO:-0500
TZNAME:EST
DTSTART:20241103T060000
END:STANDARD
BEGIN:DAYLIGHT
TZOFFSETFROM:-0500
TZOFFSETTO:-0400
TZNAME:EDT
DTSTART:20250309T070000
END:DAYLIGHT
BEGIN:STANDARD
TZOFFSETFROM:-0400
TZOFFSETTO:-0500
TZNAME:EST
DTSTART:20251102T060000
END:STANDARD
BEGIN:DAYLIGHT
TZOFFSETFROM:-0500
TZOFFSETTO:-0400
TZNAME:EDT
DTSTART:20260308T070000
END:DAYLIGHT
BEGIN:STANDARD
TZOFFSETFROM:-0400
TZOFFSETTO:-0500
TZNAME:EST
DTSTART:20261101T060000
END:STANDARD
END:VTIMEZONE
BEGIN:VEVENT
DTSTART;TZID=America/New_York:20250122T110000
DTEND;TZID=America/New_York:20250122T123000
DTSTAMP:20260424T053014
CREATED:20241206T162141Z
LAST-MODIFIED:20241206T162141Z
UID:48020-1737543600-1737549000@evolve.elsevier.com
SUMMARY:Sherpath Vantage Faculty Group Training Webinar
DESCRIPTION:Join our upcoming Sherpath Vantage Faculty Group Training Webinar to learn more about its exciting resources\, features\, and functionality as you prepare to use Vantage this term. \nTo learn more or register for this live session\, click here.
URL:https://evolve.elsevier.com/education/event/sherpath-vantage-faculty-group-training-webinar-5/
CATEGORIES:Sherpath Vantage
END:VEVENT
BEGIN:VEVENT
DTSTART;TZID=America/New_York:20250122T150000
DTEND;TZID=America/New_York:20250122T163000
DTSTAMP:20260424T053014
CREATED:20241206T155035Z
LAST-MODIFIED:20241206T155035Z
UID:48004-1737558000-1737563400@evolve.elsevier.com
SUMMARY:Shadow Health Faculty Group Training Webinar
DESCRIPTION:Join our upcoming Shadow Health Faculty Group Training Webinar today. In this session\, we will review the basic functionality and features of Shadow Health to help you prepare to use our high-fidelity virtual simulations with your learners. \nTo learn more or register for this live session\, click here.
URL:https://evolve.elsevier.com/education/event/shadow-health-faculty-group-training-webinar-6/
CATEGORIES:Shadow Health
END:VEVENT
END:VCALENDAR