BEGIN:VCALENDAR
VERSION:2.0
PRODID:-//Elsevier Education - ECPv6.15.18//NONSGML v1.0//EN
CALSCALE:GREGORIAN
METHOD:PUBLISH
X-WR-CALNAME:Elsevier Education
X-ORIGINAL-URL:https://evolve.elsevier.com/education
X-WR-CALDESC:Events for Elsevier Education
REFRESH-INTERVAL;VALUE=DURATION:PT1H
X-Robots-Tag:noindex
X-PUBLISHED-TTL:PT1H
BEGIN:VTIMEZONE
TZID:America/New_York
BEGIN:DAYLIGHT
TZOFFSETFROM:-0500
TZOFFSETTO:-0400
TZNAME:EDT
DTSTART:20230312T070000
END:DAYLIGHT
BEGIN:STANDARD
TZOFFSETFROM:-0400
TZOFFSETTO:-0500
TZNAME:EST
DTSTART:20231105T060000
END:STANDARD
BEGIN:DAYLIGHT
TZOFFSETFROM:-0500
TZOFFSETTO:-0400
TZNAME:EDT
DTSTART:20240310T070000
END:DAYLIGHT
BEGIN:STANDARD
TZOFFSETFROM:-0400
TZOFFSETTO:-0500
TZNAME:EST
DTSTART:20241103T060000
END:STANDARD
BEGIN:DAYLIGHT
TZOFFSETFROM:-0500
TZOFFSETTO:-0400
TZNAME:EDT
DTSTART:20250309T070000
END:DAYLIGHT
BEGIN:STANDARD
TZOFFSETFROM:-0400
TZOFFSETTO:-0500
TZNAME:EST
DTSTART:20251102T060000
END:STANDARD
END:VTIMEZONE
BEGIN:VEVENT
DTSTART;TZID=America/New_York:20241212T110000
DTEND;TZID=America/New_York:20241212T123000
DTSTAMP:20260424T065425
CREATED:20241004T103138Z
LAST-MODIFIED:20241004T103138Z
UID:47443-1734001200-1734006600@evolve.elsevier.com
SUMMARY:Sherpath Faculty Group Training Webinar
DESCRIPTION:Join our upcoming Sherpath Faculty Group Training Webinar today. In this session\, we will explore the features\, functionality\, and fully integrated platform as you prepare to use Sherpath with your learners this term. \nTo learn more or register for this live session\, click here.
URL:https://evolve.elsevier.com/education/event/sherpath-faculty-group-training-webinar-4/
CATEGORIES:Sherpath
END:VEVENT
BEGIN:VEVENT
DTSTART;TZID=America/New_York:20241212T130000
DTEND;TZID=America/New_York:20241212T143000
DTSTAMP:20260424T065425
CREATED:20241004T105019Z
LAST-MODIFIED:20241004T105019Z
UID:47451-1734008400-1734013800@evolve.elsevier.com
SUMMARY:Sherpath for DA Faculty Group Training Webinar
DESCRIPTION:Join our upcoming Sherpath for Dental Assisting (DA) Faculty Group Training Webinar today. In this session\, we will explore the features\, functionality\, and fully integrated platform as you prepare to use Sherpath for DA with your learners this term. \nTo learn more or register for this live session\, click here.
URL:https://evolve.elsevier.com/education/event/sherpath-for-da-faculty-group-training-webinar-5/
CATEGORIES:Sherpath,Sherpath for DA,Sherpath for HP
END:VEVENT
END:VCALENDAR