BEGIN:VCALENDAR
VERSION:2.0
PRODID:-//Elsevier Education - ECPv6.15.18//NONSGML v1.0//EN
CALSCALE:GREGORIAN
METHOD:PUBLISH
X-WR-CALNAME:Elsevier Education
X-ORIGINAL-URL:https://evolve.elsevier.com/education
X-WR-CALDESC:Events for Elsevier Education
REFRESH-INTERVAL;VALUE=DURATION:PT1H
X-Robots-Tag:noindex
X-PUBLISHED-TTL:PT1H
BEGIN:VTIMEZONE
TZID:America/Chicago
BEGIN:DAYLIGHT
TZOFFSETFROM:-0600
TZOFFSETTO:-0500
TZNAME:CDT
DTSTART:20230312T080000
END:DAYLIGHT
BEGIN:STANDARD
TZOFFSETFROM:-0500
TZOFFSETTO:-0600
TZNAME:CST
DTSTART:20231105T070000
END:STANDARD
BEGIN:DAYLIGHT
TZOFFSETFROM:-0600
TZOFFSETTO:-0500
TZNAME:CDT
DTSTART:20240310T080000
END:DAYLIGHT
BEGIN:STANDARD
TZOFFSETFROM:-0500
TZOFFSETTO:-0600
TZNAME:CST
DTSTART:20241103T070000
END:STANDARD
BEGIN:DAYLIGHT
TZOFFSETFROM:-0600
TZOFFSETTO:-0500
TZNAME:CDT
DTSTART:20250309T080000
END:DAYLIGHT
BEGIN:STANDARD
TZOFFSETFROM:-0500
TZOFFSETTO:-0600
TZNAME:CST
DTSTART:20251102T070000
END:STANDARD
END:VTIMEZONE
BEGIN:VTIMEZONE
TZID:America/New_York
BEGIN:DAYLIGHT
TZOFFSETFROM:-0500
TZOFFSETTO:-0400
TZNAME:EDT
DTSTART:20230312T070000
END:DAYLIGHT
BEGIN:STANDARD
TZOFFSETFROM:-0400
TZOFFSETTO:-0500
TZNAME:EST
DTSTART:20231105T060000
END:STANDARD
BEGIN:DAYLIGHT
TZOFFSETFROM:-0500
TZOFFSETTO:-0400
TZNAME:EDT
DTSTART:20240310T070000
END:DAYLIGHT
BEGIN:STANDARD
TZOFFSETFROM:-0400
TZOFFSETTO:-0500
TZNAME:EST
DTSTART:20241103T060000
END:STANDARD
BEGIN:DAYLIGHT
TZOFFSETFROM:-0500
TZOFFSETTO:-0400
TZNAME:EDT
DTSTART:20250309T070000
END:DAYLIGHT
BEGIN:STANDARD
TZOFFSETFROM:-0400
TZOFFSETTO:-0500
TZNAME:EST
DTSTART:20251102T060000
END:STANDARD
END:VTIMEZONE
BEGIN:VEVENT
DTSTART;TZID=America/Chicago:20240910T080000
DTEND;TZID=America/Chicago:20240910T170000
DTSTAMP:20260424T225937
CREATED:20240910T175120Z
LAST-MODIFIED:20240910T175152Z
UID:47221-1725955200-1725987600@evolve.elsevier.com
SUMMARY:The Future of Nursing Education: Demystifying AI and Harnessing its Potential
DESCRIPTION:
URL:https://evolve.elsevier.com/education/event/the-future-of-nursing-education-demystifying-ai-and-har/
END:VEVENT
BEGIN:VEVENT
DTSTART;TZID=America/Chicago:20240910T080000
DTEND;TZID=America/Chicago:20240910T170000
DTSTAMP:20260424T225937
CREATED:20240910T175544Z
LAST-MODIFIED:20240910T175544Z
UID:47225-1725955200-1725987600@evolve.elsevier.com
SUMMARY:The Future of Nursing Education: Demystifying AI and Harnessing its Potential
DESCRIPTION:
URL:https://evolve.elsevier.com/education/event/the-future-of-nursing-education-demystifying-ai-and-harnessing-its-potential/
END:VEVENT
BEGIN:VEVENT
DTSTART;TZID=America/New_York:20240910T090000
DTEND;TZID=America/New_York:20240910T103000
DTSTAMP:20260424T225937
CREATED:20240722T103114Z
LAST-MODIFIED:20240722T103114Z
UID:46580-1725958800-1725964200@evolve.elsevier.com
SUMMARY:Sherpath for DA Faculty Group Training Webinar
DESCRIPTION:Join our upcoming Sherpath for Dental Assisting (DA) Faculty Group Training Webinar today. In this session\, we will explore the features\, functionality\, and fully integrated platform as you prepare to use Sherpath for DA with your learners this term. \nTo learn more or register for this live session\, click here.
URL:https://evolve.elsevier.com/education/event/sherpath-for-da-faculty-group-training-webinar-2/
CATEGORIES:Sherpath,Sherpath for DA
END:VEVENT
BEGIN:VEVENT
DTSTART;TZID=America/New_York:20240910T150000
DTEND;TZID=America/New_York:20240910T163000
DTSTAMP:20260424T225937
CREATED:20240722T102350Z
LAST-MODIFIED:20240722T102350Z
UID:46570-1725980400-1725985800@evolve.elsevier.com
SUMMARY:Sherpath Vantage Faculty Group Training Webinar
DESCRIPTION:Join our upcoming Sherpath Vantage Faculty Group Training Webinar to learn more about its exciting resources\, features\, and functionality as you prepare to use Vantage this term. \nTo learn more or register for this live session\, click here.
URL:https://evolve.elsevier.com/education/event/sherpath-vantage-faculty-group-training-webinar-3/
CATEGORIES:Sherpath,Sherpath Vantage
END:VEVENT
END:VCALENDAR